BEGIN:VCALENDAR
VERSION:2.0
PRODID:-//Energy Communities - ECPv6.15.20//NONSGML v1.0//EN
CALSCALE:GREGORIAN
METHOD:PUBLISH
X-WR-CALNAME:Energy Communities
X-ORIGINAL-URL:https://iwg.stratacomm.agency
X-WR-CALDESC:Events for Energy Communities
REFRESH-INTERVAL;VALUE=DURATION:PT1H
X-Robots-Tag:noindex
X-PUBLISHED-TTL:PT1H
BEGIN:VTIMEZONE
TZID:America/New_York
BEGIN:DAYLIGHT
TZOFFSETFROM:-0500
TZOFFSETTO:-0400
TZNAME:EDT
DTSTART:20200308T070000
END:DAYLIGHT
BEGIN:STANDARD
TZOFFSETFROM:-0400
TZOFFSETTO:-0500
TZNAME:EST
DTSTART:20201101T060000
END:STANDARD
BEGIN:DAYLIGHT
TZOFFSETFROM:-0500
TZOFFSETTO:-0400
TZNAME:EDT
DTSTART:20210314T070000
END:DAYLIGHT
BEGIN:STANDARD
TZOFFSETFROM:-0400
TZOFFSETTO:-0500
TZNAME:EST
DTSTART:20211107T060000
END:STANDARD
BEGIN:DAYLIGHT
TZOFFSETFROM:-0500
TZOFFSETTO:-0400
TZNAME:EDT
DTSTART:20220313T070000
END:DAYLIGHT
BEGIN:STANDARD
TZOFFSETFROM:-0400
TZOFFSETTO:-0500
TZNAME:EST
DTSTART:20221106T060000
END:STANDARD
END:VTIMEZONE
BEGIN:VEVENT
DTSTART;TZID=America/New_York:20211006T080000
DTEND;TZID=America/New_York:20211006T133000
DTSTAMP:20260422T203525
CREATED:20210924T174501Z
LAST-MODIFIED:20210924T174755Z
UID:1238-1633507200-1633527000@iwg.stratacomm.agency
SUMMARY:Appalachia Envisioned: A New Era of Opportunity
DESCRIPTION:Join the Appalachian Regional Commission (ARC) and the Commonwealth of Virginia for their annual conference\, Appalachia Envisioned: A New Era of Opportunity\, as they unveil ARC’s new strategic plan\, which turns feedback from community conversations\, focus groups\, and a public survey into actionable investment strategies that emphasize Appalachia’s strengths and helps communities overcome economic challenges. Attendees will hear about this strategic plan during a conversation with Federal Co-Chair Gayle Manchin and States’ Co-Chair Governor Ralph Northam. The conference also features ARC partners who work daily to strengthen Appalachia through sectors like outdoor recreation\, entrepreneurship development\, and leadership and community capacity; shared with attendees through documentary-style videos and interactive sessions. Envision the future of Appalachia together and register today. 								\n				\n					\n		\n					\n		\n				\n						\n					\n			\n						\n				\n									\n					\n						\n									Register
URL:https://iwg.stratacomm.agency/event/appalachia-envisioned-a-new-era-of-opportunity/
END:VEVENT
END:VCALENDAR