BEGIN:VCALENDAR
VERSION:2.0
PRODID:-//Energy Communities - ECPv6.15.20//NONSGML v1.0//EN
CALSCALE:GREGORIAN
METHOD:PUBLISH
X-WR-CALNAME:Energy Communities
X-ORIGINAL-URL:https://iwg.stratacomm.agency
X-WR-CALDESC:Events for Energy Communities
REFRESH-INTERVAL;VALUE=DURATION:PT1H
X-Robots-Tag:noindex
X-PUBLISHED-TTL:PT1H
BEGIN:VTIMEZONE
TZID:America/New_York
BEGIN:DAYLIGHT
TZOFFSETFROM:-0500
TZOFFSETTO:-0400
TZNAME:EDT
DTSTART:20210314T070000
END:DAYLIGHT
BEGIN:STANDARD
TZOFFSETFROM:-0400
TZOFFSETTO:-0500
TZNAME:EST
DTSTART:20211107T060000
END:STANDARD
BEGIN:DAYLIGHT
TZOFFSETFROM:-0500
TZOFFSETTO:-0400
TZNAME:EDT
DTSTART:20220313T070000
END:DAYLIGHT
BEGIN:STANDARD
TZOFFSETFROM:-0400
TZOFFSETTO:-0500
TZNAME:EST
DTSTART:20221106T060000
END:STANDARD
BEGIN:DAYLIGHT
TZOFFSETFROM:-0500
TZOFFSETTO:-0400
TZNAME:EDT
DTSTART:20230312T070000
END:DAYLIGHT
BEGIN:STANDARD
TZOFFSETFROM:-0400
TZOFFSETTO:-0500
TZNAME:EST
DTSTART:20231105T060000
END:STANDARD
END:VTIMEZONE
BEGIN:VEVENT
DTSTART;TZID=America/New_York:20220317T160000
DTEND;TZID=America/New_York:20220317T170000
DTSTAMP:20260422T172903
CREATED:20220311T203209Z
LAST-MODIFIED:20220311T203317Z
UID:1864-1647532800-1647536400@iwg.stratacomm.agency
SUMMARY:Bipartisan Infrastructure Law Guidebook: Resilience (USDA\, DOI\, FEMA)
DESCRIPTION:This webinar will focus on more than $50 billion in historical funding through the Bipartisan Infrastructure Law\, the largest investment in the resilience of physical and natural systems in American history. 								\n				\n					\n		\n					\n		\n				\n						\n					\n			\n						\n				\n									\n					\n						\n									Learn More & Register
URL:https://iwg.stratacomm.agency/event/bipartisan-infrastructure-law-guidebook-resilience-usda-doi-fema/
END:VEVENT
END:VCALENDAR