BEGIN:VCALENDAR
VERSION:2.0
PRODID:-//Energy Communities - ECPv6.15.20//NONSGML v1.0//EN
CALSCALE:GREGORIAN
METHOD:PUBLISH
X-WR-CALNAME:Energy Communities
X-ORIGINAL-URL:https://iwg.stratacomm.agency
X-WR-CALDESC:Events for Energy Communities
REFRESH-INTERVAL;VALUE=DURATION:PT1H
X-Robots-Tag:noindex
X-PUBLISHED-TTL:PT1H
BEGIN:VTIMEZONE
TZID:America/New_York
BEGIN:DAYLIGHT
TZOFFSETFROM:-0500
TZOFFSETTO:-0400
TZNAME:EDT
DTSTART:20220313T070000
END:DAYLIGHT
BEGIN:STANDARD
TZOFFSETFROM:-0400
TZOFFSETTO:-0500
TZNAME:EST
DTSTART:20221106T060000
END:STANDARD
BEGIN:DAYLIGHT
TZOFFSETFROM:-0500
TZOFFSETTO:-0400
TZNAME:EDT
DTSTART:20230312T070000
END:DAYLIGHT
BEGIN:STANDARD
TZOFFSETFROM:-0400
TZOFFSETTO:-0500
TZNAME:EST
DTSTART:20231105T060000
END:STANDARD
BEGIN:DAYLIGHT
TZOFFSETFROM:-0500
TZOFFSETTO:-0400
TZNAME:EDT
DTSTART:20240310T070000
END:DAYLIGHT
BEGIN:STANDARD
TZOFFSETFROM:-0400
TZOFFSETTO:-0500
TZNAME:EST
DTSTART:20241103T060000
END:STANDARD
END:VTIMEZONE
BEGIN:VEVENT
DTSTART;TZID=America/New_York:20230223T110000
DTEND;TZID=America/New_York:20230223T120000
DTSTAMP:20260422T112440
CREATED:20230214T134633Z
LAST-MODIFIED:20230214T140726Z
UID:3343-1677150000-1677153600@iwg.stratacomm.agency
SUMMARY:Broadband Technical Assistance for Rural Communities Listening Session (USDA)
DESCRIPTION:USDA Seeks Feedback from Broadband Technical Assistance Providers and Rural Communities				\n				\n				\n				\n									The Infrastructure Investment and Jobs Act (IIJA) (Pub. L. 117-58) provided the Rural Utilities Service (RUS) Telecommunications Program with funding for technical assistance and pre-development planning activities to support the most rural communities. RUS received additional funding for these purposes in the Consolidated Appropriations Act\, 2023 (Pub. L. 117-328). RUS will host two listening sessions to solicit important feedback from rural communities interested in receiving broadband technical assistance and technical assistance providers serving rural communities. Rural Communities interested in receiving broadband technical assistance are encouraged to register to attend the Broadband Technical Assistance for Rural Communities Listening Session on Thursday\, February 23rd at 11 AM MDT. Register for this session here. The goal of this listening session is to solicit valuable insight into the challenges communities face in gaining broadband access\, the types of technical assistance resources that would best serve these communities\, and how RUS can best provide support. 								\n				\n				\n				\n									\n					\n						\n									Register\n					\n					\n				\n								\n				\n				\n				\n									Technical Assistance Providers interested in providing broadband technical assistance to support the most rural communities are encouraged to register to attend the Broadband Technical Assistance Providers Listening Session on Tuesday\, February 28th at 11 AM MDT. Register for this session here. The goal of this listening session is to solicit input on the opportunities available to provide technical assistance for rural communities\, the barriers to deliver these services\, and how RUS can help providers overcome these barriers.
URL:https://iwg.stratacomm.agency/event/broadband-technical-assistance-for-rural-communities-listening-session-usda/
END:VEVENT
END:VCALENDAR