BEGIN:VCALENDAR
VERSION:2.0
PRODID:-//Energy Communities - ECPv6.15.20//NONSGML v1.0//EN
CALSCALE:GREGORIAN
METHOD:PUBLISH
X-WR-CALNAME:Energy Communities
X-ORIGINAL-URL:https://iwg.stratacomm.agency
X-WR-CALDESC:Events for Energy Communities
REFRESH-INTERVAL;VALUE=DURATION:PT1H
X-Robots-Tag:noindex
X-PUBLISHED-TTL:PT1H
BEGIN:VTIMEZONE
TZID:America/Chicago
BEGIN:DAYLIGHT
TZOFFSETFROM:-0600
TZOFFSETTO:-0500
TZNAME:CDT
DTSTART:20220313T080000
END:DAYLIGHT
BEGIN:STANDARD
TZOFFSETFROM:-0500
TZOFFSETTO:-0600
TZNAME:CST
DTSTART:20221106T070000
END:STANDARD
BEGIN:DAYLIGHT
TZOFFSETFROM:-0600
TZOFFSETTO:-0500
TZNAME:CDT
DTSTART:20230312T080000
END:DAYLIGHT
BEGIN:STANDARD
TZOFFSETFROM:-0500
TZOFFSETTO:-0600
TZNAME:CST
DTSTART:20231105T070000
END:STANDARD
BEGIN:DAYLIGHT
TZOFFSETFROM:-0600
TZOFFSETTO:-0500
TZNAME:CDT
DTSTART:20240310T080000
END:DAYLIGHT
BEGIN:STANDARD
TZOFFSETFROM:-0500
TZOFFSETTO:-0600
TZNAME:CST
DTSTART:20241103T070000
END:STANDARD
END:VTIMEZONE
BEGIN:VEVENT
DTSTART;TZID=America/Chicago:20230427T133000
DTEND;TZID=America/Chicago:20230427T153000
DTSTAMP:20260422T112111
CREATED:20230424T183200Z
LAST-MODIFIED:20230424T183245Z
UID:3890-1682602200-1682609400@iwg.stratacomm.agency
SUMMARY:Brownfield Grant-Writing Training Webinar Series: It's Never Too Early to Start! - Webinar #2
DESCRIPTION:Join us for the 2023 Brownfield Grant-writing Training Webinar Series: It’s Never Too Early To Start! designed to determine your readiness for an EPA Brownfields Multipurpose\, Assessment\, Revolving Loan Fund\, or Cleanup (MARC) Grant followed by guidance to prepare you for the next competition. Mark your calendar and learn from seasoned grant writers and subject matter experts how to tell your story effectively and craft a successful application!\n\nWebinars will be held from 1:30-3:30 pm CDT every Thursday for 6 weeks starting on April 20th. Each webinar will be roughly 2 hours\, including questions and answers.  If you are unable to make each individual webinar\, a recording will be available before the next webinar is scheduled.\n\nWebinar 2: MARC Grant Fundamentals and Online Tools\nWebinar 2 will provide an overview of each type of brownfields grant (Multipurpose\, Assessment\, Revolving Loan Fund\, or Cleanup) including eligibility\, funding limits\, threshold criteria\, the state letter and present best practices for procurement and contractor relationships. We’ll also share ideas for creating a project outline and useful tools to help you get started such as TAB EZ\, EJ Screen\, CJEST\, PEER. At the end of this webinar\, you’ll understand which grant best meets your needs and initial steps to take to ensure your organization is ready to apply.								\n				\n				\n				\n									\n					\n						\n									Register
URL:https://iwg.stratacomm.agency/event/brownfield-grant-writing-training-webinar-series-its-never-too-early-to-start-webinar-2/
END:VEVENT
END:VCALENDAR