BEGIN:VCALENDAR
VERSION:2.0
PRODID:-//Energy Communities - ECPv6.15.20//NONSGML v1.0//EN
CALSCALE:GREGORIAN
METHOD:PUBLISH
X-WR-CALNAME:Energy Communities
X-ORIGINAL-URL:https://iwg.stratacomm.agency
X-WR-CALDESC:Events for Energy Communities
REFRESH-INTERVAL;VALUE=DURATION:PT1H
X-Robots-Tag:noindex
X-PUBLISHED-TTL:PT1H
BEGIN:VTIMEZONE
TZID:America/New_York
BEGIN:DAYLIGHT
TZOFFSETFROM:-0500
TZOFFSETTO:-0400
TZNAME:EDT
DTSTART:20220313T070000
END:DAYLIGHT
BEGIN:STANDARD
TZOFFSETFROM:-0400
TZOFFSETTO:-0500
TZNAME:EST
DTSTART:20221106T060000
END:STANDARD
BEGIN:DAYLIGHT
TZOFFSETFROM:-0500
TZOFFSETTO:-0400
TZNAME:EDT
DTSTART:20230312T070000
END:DAYLIGHT
BEGIN:STANDARD
TZOFFSETFROM:-0400
TZOFFSETTO:-0500
TZNAME:EST
DTSTART:20231105T060000
END:STANDARD
BEGIN:DAYLIGHT
TZOFFSETFROM:-0500
TZOFFSETTO:-0400
TZNAME:EDT
DTSTART:20240310T070000
END:DAYLIGHT
BEGIN:STANDARD
TZOFFSETFROM:-0400
TZOFFSETTO:-0500
TZNAME:EST
DTSTART:20241103T060000
END:STANDARD
END:VTIMEZONE
BEGIN:VEVENT
DTSTART;TZID=America/New_York:20230518T133000
DTEND;TZID=America/New_York:20230518T153000
DTSTAMP:20260422T081013
CREATED:20230424T184039Z
LAST-MODIFIED:20230515T170243Z
UID:3893-1684416600-1684423800@iwg.stratacomm.agency
SUMMARY:Brownfield Grant-Writing Training Webinar Series: It's Never Too Early to Start! - Webinar #5
DESCRIPTION:Join us for the 2023 Brownfield Grant-writing Training Webinar Series: It’s Never Too Early To Start! designed to determine your readiness for an EPA Brownfields Multipurpose\, Assessment\, Revolving Loan Fund\, or Cleanup (MARC) Grant followed by guidance to prepare you for the next competition. Mark your calendar and learn from seasoned grant writers and subject matter experts how to tell your story effectively and craft a successful application! Webinars will be held from 1:30-3:30 pm CDT every Thursday for 6 weeks starting on April 20th. Each webinar will be roughly 2 hours\, including questions and answers.  If you are unable to make each individual webinar\, a recording will be available before the next webinar is scheduled. Webinar 5: Budget\, Tasks\, & Programmatic CapabilityWebinar 5 will briefly review the basic components of these sections and examine how to avoid common mistakes. There will be a focus on resources you can access now to begin assembling the needed information. Previous successful MARC Grant recipients will share their approach to gathering and presenting the data required for these sections.								\n				\n				\n				\n									\n					\n						\n									Register
URL:https://iwg.stratacomm.agency/event/brownfield-grant-writing-training-webinar-series-its-never-too-early-to-start-webinar-5/
LOCATION:Webinar
END:VEVENT
END:VCALENDAR