BEGIN:VCALENDAR
VERSION:2.0
PRODID:-//Energy Communities - ECPv6.15.20//NONSGML v1.0//EN
CALSCALE:GREGORIAN
METHOD:PUBLISH
X-WR-CALNAME:Energy Communities
X-ORIGINAL-URL:https://iwg.stratacomm.agency
X-WR-CALDESC:Events for Energy Communities
REFRESH-INTERVAL;VALUE=DURATION:PT1H
X-Robots-Tag:noindex
X-PUBLISHED-TTL:PT1H
BEGIN:VTIMEZONE
TZID:America/New_York
BEGIN:DAYLIGHT
TZOFFSETFROM:-0500
TZOFFSETTO:-0400
TZNAME:EDT
DTSTART:20200308T070000
END:DAYLIGHT
BEGIN:STANDARD
TZOFFSETFROM:-0400
TZOFFSETTO:-0500
TZNAME:EST
DTSTART:20201101T060000
END:STANDARD
BEGIN:DAYLIGHT
TZOFFSETFROM:-0500
TZOFFSETTO:-0400
TZNAME:EDT
DTSTART:20210314T070000
END:DAYLIGHT
BEGIN:STANDARD
TZOFFSETFROM:-0400
TZOFFSETTO:-0500
TZNAME:EST
DTSTART:20211107T060000
END:STANDARD
BEGIN:DAYLIGHT
TZOFFSETFROM:-0500
TZOFFSETTO:-0400
TZNAME:EDT
DTSTART:20220313T070000
END:DAYLIGHT
BEGIN:STANDARD
TZOFFSETFROM:-0400
TZOFFSETTO:-0500
TZNAME:EST
DTSTART:20221106T060000
END:STANDARD
END:VTIMEZONE
BEGIN:VEVENT
DTSTART;TZID=America/New_York:20210923T120000
DTEND;TZID=America/New_York:20210923T130000
DTSTAMP:20260422T202712
CREATED:20210915T162229Z
LAST-MODIFIED:20210915T163219Z
UID:1217-1632398400-1632402000@iwg.stratacomm.agency
SUMMARY:Build Back Better Regional Challenge: Office Hours with EDA
DESCRIPTION:EDA’s American Rescue Plan Build Back Better Regional Challenge will provide a transformational investment to 20-30 regions across the country to revitalize their economies. These regions will have the opportunity to grow emerging industry clusters or scale existing ones through planning\, infrastructure\, innovation and entrepreneurship\, workforce development\, access to capital\, and more. \nEDA invites regional coalitions preparing concept proposals for the Build Back Better Regional Challenge to join a public Office Hours session\, where EDA program staff will answer your questions as we approach the Phase 1 deadline on Tuesday\, October 19\, 2021. Please email your questions about the Phase 1 Application to BuildBackBetter[at]eda.gov and our team will collect them ahead of time and strive to answer all questions live.  \nRegister \nSubmit questions: BuildBackBetter[at]eda.gov\, Subject line “Build Back Better Office Hours”\nIn the event that your question is not answered\, a member of our team will follow up via email.
URL:https://iwg.stratacomm.agency/event/build-back-better-regional-challenge-office-hours-with-eda/
END:VEVENT
END:VCALENDAR