BEGIN:VCALENDAR
VERSION:2.0
PRODID:-//Energy Communities - ECPv6.15.20//NONSGML v1.0//EN
CALSCALE:GREGORIAN
METHOD:PUBLISH
X-WR-CALNAME:Energy Communities
X-ORIGINAL-URL:https://iwg.stratacomm.agency
X-WR-CALDESC:Events for Energy Communities
REFRESH-INTERVAL;VALUE=DURATION:PT1H
X-Robots-Tag:noindex
X-PUBLISHED-TTL:PT1H
BEGIN:VTIMEZONE
TZID:America/New_York
BEGIN:DAYLIGHT
TZOFFSETFROM:-0500
TZOFFSETTO:-0400
TZNAME:EDT
DTSTART:20220313T070000
END:DAYLIGHT
BEGIN:STANDARD
TZOFFSETFROM:-0400
TZOFFSETTO:-0500
TZNAME:EST
DTSTART:20221106T060000
END:STANDARD
BEGIN:DAYLIGHT
TZOFFSETFROM:-0500
TZOFFSETTO:-0400
TZNAME:EDT
DTSTART:20230312T070000
END:DAYLIGHT
BEGIN:STANDARD
TZOFFSETFROM:-0400
TZOFFSETTO:-0500
TZNAME:EST
DTSTART:20231105T060000
END:STANDARD
BEGIN:DAYLIGHT
TZOFFSETFROM:-0500
TZOFFSETTO:-0400
TZNAME:EDT
DTSTART:20240310T070000
END:DAYLIGHT
BEGIN:STANDARD
TZOFFSETFROM:-0400
TZOFFSETTO:-0500
TZNAME:EST
DTSTART:20241103T060000
END:STANDARD
END:VTIMEZONE
BEGIN:VEVENT
DTSTART;TZID=America/New_York:20230907T140000
DTEND;TZID=America/New_York:20230907T150000
DTSTAMP:20260421T102647
CREATED:20230906T151025Z
LAST-MODIFIED:20230906T151320Z
UID:4698-1694095200-1694098800@iwg.stratacomm.agency
SUMMARY:Capacity Building for Repurposing Energy Assets - Informational Webinar/Objective Strategic Session
DESCRIPTION:The U.S. Department of Energy’s (DOE) Office of Fossil Energy and Carbon Management (FECM) announced up to $3.5 million in federal funding available to help local communities across the country create a roadmap toward repurposing energy assets. The Capacity Building for Repurposing Energy Assets initiative will assist communities where a significant portion of their local economy has historically been supported by energy assets. This effort advances FECM’s mission of minimizing environmental and climate impacts of energy systems and industrial processes while working to achieve net-zero emissions across our economy as well as the broader DOE mission of ensuring efficient transformation of the energy system while prioritizing labor and community engagement. If your organization is interested in learning more about this funded opportunity\, please click here for more information and to RSVP for the IW/OSS. 								\n				\n				\n				\n									\n					\n						\n									Register / Learn More
URL:https://iwg.stratacomm.agency/event/capacity-building-for-repurposing-energy-assets-informational-webinar-objective-strategic-session/
END:VEVENT
END:VCALENDAR