BEGIN:VCALENDAR
VERSION:2.0
PRODID:-//Energy Communities - ECPv6.15.20//NONSGML v1.0//EN
CALSCALE:GREGORIAN
METHOD:PUBLISH
X-WR-CALNAME:Energy Communities
X-ORIGINAL-URL:https://iwg.stratacomm.agency
X-WR-CALDESC:Events for Energy Communities
REFRESH-INTERVAL;VALUE=DURATION:PT1H
X-Robots-Tag:noindex
X-PUBLISHED-TTL:PT1H
BEGIN:VTIMEZONE
TZID:America/New_York
BEGIN:DAYLIGHT
TZOFFSETFROM:-0500
TZOFFSETTO:-0400
TZNAME:EDT
DTSTART:20210314T070000
END:DAYLIGHT
BEGIN:STANDARD
TZOFFSETFROM:-0400
TZOFFSETTO:-0500
TZNAME:EST
DTSTART:20211107T060000
END:STANDARD
BEGIN:DAYLIGHT
TZOFFSETFROM:-0500
TZOFFSETTO:-0400
TZNAME:EDT
DTSTART:20220313T070000
END:DAYLIGHT
BEGIN:STANDARD
TZOFFSETFROM:-0400
TZOFFSETTO:-0500
TZNAME:EST
DTSTART:20221106T060000
END:STANDARD
BEGIN:DAYLIGHT
TZOFFSETFROM:-0500
TZOFFSETTO:-0400
TZNAME:EDT
DTSTART:20230312T070000
END:DAYLIGHT
BEGIN:STANDARD
TZOFFSETFROM:-0400
TZOFFSETTO:-0500
TZNAME:EST
DTSTART:20231105T060000
END:STANDARD
END:VTIMEZONE
BEGIN:VEVENT
DTSTART;VALUE=DATE:20221025
DTEND;VALUE=DATE:20221027
DTSTAMP:20260422T154747
CREATED:20221003T142141Z
LAST-MODIFIED:20221003T142202Z
UID:2387-1666656000-1666828799@iwg.stratacomm.agency
SUMMARY:Clean Energy on Mine Land Workshops (OCED)
DESCRIPTION:OCED is hosting five upcoming workshops to hear from stakeholders on the  Clean Energy Demonstrations on Current and Former Mine Land program and the Energy Improvements in Rural or Remote Areas program (ERA). These workshops will: Provide a detailed overview of the Clean Energy Demonstration Program on Current and Former Mine Land to interested stakeholders.Collect feedback from stakeholders on drivers\, challenges and potential impacts of mine land demonstrations.Offer a forum for stakeholder networking in preparation for the funding opportunity announcement.Details: Energy Improvements in Rural or Remote Areas Workshops The workshop focusing on the Western U.S. is set for October 12-13\, 2022 in Golden\, CO. Register here.The workshop focusing on the Eastern U.S. is set for October 26-27\, 2022 in Little Rock\, AR. Register here.The virtual workshop is set for November 1-2\, 2022. Register here.Clean Energy on Mine Land Workshops The workshop focusing on the Western U.S. is set for October 11-12 at the National Renewable Energy Laboratory (NREL) in Golden\, CO. Register here.The virtual workshop is set for October 25-26. Register here.
URL:https://iwg.stratacomm.agency/event/clean-energy-on-mine-land-workshops-oced-2/
END:VEVENT
END:VCALENDAR