BEGIN:VCALENDAR
VERSION:2.0
PRODID:-//Energy Communities - ECPv6.15.20//NONSGML v1.0//EN
CALSCALE:GREGORIAN
METHOD:PUBLISH
X-WR-CALNAME:Energy Communities
X-ORIGINAL-URL:https://iwg.stratacomm.agency
X-WR-CALDESC:Events for Energy Communities
REFRESH-INTERVAL;VALUE=DURATION:PT1H
X-Robots-Tag:noindex
X-PUBLISHED-TTL:PT1H
BEGIN:VTIMEZONE
TZID:America/Denver
BEGIN:DAYLIGHT
TZOFFSETFROM:-0700
TZOFFSETTO:-0600
TZNAME:MDT
DTSTART:20210314T090000
END:DAYLIGHT
BEGIN:STANDARD
TZOFFSETFROM:-0600
TZOFFSETTO:-0700
TZNAME:MST
DTSTART:20211107T080000
END:STANDARD
BEGIN:DAYLIGHT
TZOFFSETFROM:-0700
TZOFFSETTO:-0600
TZNAME:MDT
DTSTART:20220313T090000
END:DAYLIGHT
BEGIN:STANDARD
TZOFFSETFROM:-0600
TZOFFSETTO:-0700
TZNAME:MST
DTSTART:20221106T080000
END:STANDARD
BEGIN:DAYLIGHT
TZOFFSETFROM:-0700
TZOFFSETTO:-0600
TZNAME:MDT
DTSTART:20230312T090000
END:DAYLIGHT
BEGIN:STANDARD
TZOFFSETFROM:-0600
TZOFFSETTO:-0700
TZNAME:MST
DTSTART:20231105T080000
END:STANDARD
END:VTIMEZONE
BEGIN:VEVENT
DTSTART;VALUE=DATE:20221011
DTEND;VALUE=DATE:20221013
DTSTAMP:20260422T154719
CREATED:20221003T142017Z
LAST-MODIFIED:20221003T142052Z
UID:2386-1665446400-1665619199@iwg.stratacomm.agency
SUMMARY:Clean Energy on Mine Land Workshops (OCED)
DESCRIPTION:OCED is hosting five upcoming workshops to hear from stakeholders on the  Clean Energy Demonstrations on Current and Former Mine Land program and the Energy Improvements in Rural or Remote Areas program (ERA). These workshops will: Provide a detailed overview of the Clean Energy Demonstration Program on Current and Former Mine Land to interested stakeholders.Collect feedback from stakeholders on drivers\, challenges and potential impacts of mine land demonstrations.Offer a forum for stakeholder networking in preparation for the funding opportunity announcement.Details: Energy Improvements in Rural or Remote Areas Workshops The workshop focusing on the Western U.S. is set for October 12-13\, 2022 in Golden\, CO. Register here.The workshop focusing on the Eastern U.S. is set for October 26-27\, 2022 in Little Rock\, AR. Register here.The virtual workshop is set for November 1-2\, 2022. Register here.Clean Energy on Mine Land Workshops The workshop focusing on the Western U.S. is set for October 11-12 at the National Renewable Energy Laboratory (NREL) in Golden\, CO. Register here.The virtual workshop is set for October 25-26. Register here.
URL:https://iwg.stratacomm.agency/event/clean-energy-on-mine-land-workshops-oced/
END:VEVENT
END:VCALENDAR