BEGIN:VCALENDAR
VERSION:2.0
PRODID:-//Energy Communities - ECPv6.15.20//NONSGML v1.0//EN
CALSCALE:GREGORIAN
METHOD:PUBLISH
X-WR-CALNAME:Energy Communities
X-ORIGINAL-URL:https://iwg.stratacomm.agency
X-WR-CALDESC:Events for Energy Communities
REFRESH-INTERVAL;VALUE=DURATION:PT1H
X-Robots-Tag:noindex
X-PUBLISHED-TTL:PT1H
BEGIN:VTIMEZONE
TZID:America/New_York
BEGIN:DAYLIGHT
TZOFFSETFROM:-0500
TZOFFSETTO:-0400
TZNAME:EDT
DTSTART:20200308T070000
END:DAYLIGHT
BEGIN:STANDARD
TZOFFSETFROM:-0400
TZOFFSETTO:-0500
TZNAME:EST
DTSTART:20201101T060000
END:STANDARD
BEGIN:DAYLIGHT
TZOFFSETFROM:-0500
TZOFFSETTO:-0400
TZNAME:EDT
DTSTART:20210314T070000
END:DAYLIGHT
BEGIN:STANDARD
TZOFFSETFROM:-0400
TZOFFSETTO:-0500
TZNAME:EST
DTSTART:20211107T060000
END:STANDARD
BEGIN:DAYLIGHT
TZOFFSETFROM:-0500
TZOFFSETTO:-0400
TZNAME:EDT
DTSTART:20220313T070000
END:DAYLIGHT
BEGIN:STANDARD
TZOFFSETFROM:-0400
TZOFFSETTO:-0500
TZNAME:EST
DTSTART:20221106T060000
END:STANDARD
END:VTIMEZONE
BEGIN:VEVENT
DTSTART;TZID=America/New_York:20210928T153000
DTEND;TZID=America/New_York:20210928T170000
DTSTAMP:20260422T215447
CREATED:20210917T164000Z
LAST-MODIFIED:20210917T200309Z
UID:1225-1632843000-1632848400@iwg.stratacomm.agency
SUMMARY:Communities LEAP Informational Webinar
DESCRIPTION:On September 15\, Secretary Granholm introduced Communities LEAP (Local Energy Action Program) – a new pilot initiative that will help environmental justice and fossil fuel communities develop action plans to transition to a clean energy future. This program will award up to $16 million in technical assistance to help 24–36 communities across the country realize different clean energy-oriented economic development pathways. Plans will emphasize energy jobs and workforce skills and promote minority-owned and small- to mid-size businesses wherever possible. Join DOE staff for an overview of the Communities LEAP competitive technical assistance opportunity announcement including eligibility\, application requirements\, application schedule and deadlines\, and evaluation criteria. Communities LEAP is offered jointly by DOE’s Offices of Energy Efficiency and Renewable Energy\, Electricity\, Policy\, Fossil Energy and Carbon Management\, and Economic Impact and Diversity. 								\n				\n				\n				\n									\n					\n						\n									Register
URL:https://iwg.stratacomm.agency/event/communities-leap-informational-webinar/
END:VEVENT
END:VCALENDAR