BEGIN:VCALENDAR
VERSION:2.0
PRODID:-//Energy Communities - ECPv6.15.20//NONSGML v1.0//EN
CALSCALE:GREGORIAN
METHOD:PUBLISH
X-WR-CALNAME:Energy Communities
X-ORIGINAL-URL:https://iwg.stratacomm.agency
X-WR-CALDESC:Events for Energy Communities
REFRESH-INTERVAL;VALUE=DURATION:PT1H
X-Robots-Tag:noindex
X-PUBLISHED-TTL:PT1H
BEGIN:VTIMEZONE
TZID:America/New_York
BEGIN:DAYLIGHT
TZOFFSETFROM:-0500
TZOFFSETTO:-0400
TZNAME:EDT
DTSTART:20210314T070000
END:DAYLIGHT
BEGIN:STANDARD
TZOFFSETFROM:-0400
TZOFFSETTO:-0500
TZNAME:EST
DTSTART:20211107T060000
END:STANDARD
BEGIN:DAYLIGHT
TZOFFSETFROM:-0500
TZOFFSETTO:-0400
TZNAME:EDT
DTSTART:20220313T070000
END:DAYLIGHT
BEGIN:STANDARD
TZOFFSETFROM:-0400
TZOFFSETTO:-0500
TZNAME:EST
DTSTART:20221106T060000
END:STANDARD
BEGIN:DAYLIGHT
TZOFFSETFROM:-0500
TZOFFSETTO:-0400
TZNAME:EDT
DTSTART:20230312T070000
END:DAYLIGHT
BEGIN:STANDARD
TZOFFSETFROM:-0400
TZOFFSETTO:-0500
TZNAME:EST
DTSTART:20231105T060000
END:STANDARD
END:VTIMEZONE
BEGIN:VEVENT
DTSTART;TZID=America/New_York:20220624T153000
DTEND;TZID=America/New_York:20220624T170000
DTSTAMP:20260422T141700
CREATED:20220617T160421Z
LAST-MODIFIED:20220617T163641Z
UID:2087-1656084600-1656090000@iwg.stratacomm.agency
SUMMARY:Community Benefits Agreement 101 Webinar
DESCRIPTION:You are invited to a “Community Benefits Agreements (CBA) 101” webinar hosted by the Department of Energy’s (DOE) Office of the Secretary in collaboration with the Office of Economic Impact and Diversity. The goal of the webinar is to familiarize all participants with CBAs\, especially considering the recently passed Bipartisan Infrastructure Law (BIL) which provided significant new funds to the DOE to address some of the country’s most pressing energy sustainability\, resilience\, and equity challenges. The DOE is deeply committed to ensuring that BIL projects create real community benefits including high-quality jobs with the free and fair chance to join a union; training strategies to attract\, train\, and retain a skilled workforce; diversity\, equity\, inclusion\, and accessibility in all phases of the project; and incorporation of the administration’s Justice40 commitments. DOE will be requesting BIL funding applicants to create community benefits plans to realize these goals\, and ultimately to use more formal negotiated structures including CBAs\, Community Workforce Agreements\, Project Labor Agreements\, and/or other vehicles.  Community Benefits Agreements have been negotiated by communities\, tribes\, labor unions\, and companies across the U.S. and Canada\, and we are excited to share just a few diverse examples on this webinar. We look forward to continuing the conversation with additional workshops and events over the coming months.   When you register\, please also submit any questions and comments that can help us enrich the webinar – we look forward to your input.  								\n				\n				\n				\n									\n					\n						\n									Register
URL:https://iwg.stratacomm.agency/event/community-benefits-agreement-101-webinar/
END:VEVENT
END:VCALENDAR