BEGIN:VCALENDAR
VERSION:2.0
PRODID:-//Energy Communities - ECPv6.15.20//NONSGML v1.0//EN
CALSCALE:GREGORIAN
METHOD:PUBLISH
X-WR-CALNAME:Energy Communities
X-ORIGINAL-URL:https://iwg.stratacomm.agency
X-WR-CALDESC:Events for Energy Communities
REFRESH-INTERVAL;VALUE=DURATION:PT1H
X-Robots-Tag:noindex
X-PUBLISHED-TTL:PT1H
BEGIN:VTIMEZONE
TZID:America/New_York
BEGIN:DAYLIGHT
TZOFFSETFROM:-0500
TZOFFSETTO:-0400
TZNAME:EDT
DTSTART:20220313T070000
END:DAYLIGHT
BEGIN:STANDARD
TZOFFSETFROM:-0400
TZOFFSETTO:-0500
TZNAME:EST
DTSTART:20221106T060000
END:STANDARD
BEGIN:DAYLIGHT
TZOFFSETFROM:-0500
TZOFFSETTO:-0400
TZNAME:EDT
DTSTART:20230312T070000
END:DAYLIGHT
BEGIN:STANDARD
TZOFFSETFROM:-0400
TZOFFSETTO:-0500
TZNAME:EST
DTSTART:20231105T060000
END:STANDARD
BEGIN:DAYLIGHT
TZOFFSETFROM:-0500
TZOFFSETTO:-0400
TZNAME:EDT
DTSTART:20240310T070000
END:DAYLIGHT
BEGIN:STANDARD
TZOFFSETFROM:-0400
TZOFFSETTO:-0500
TZNAME:EST
DTSTART:20241103T060000
END:STANDARD
END:VTIMEZONE
BEGIN:VEVENT
DTSTART;TZID=America/New_York:20230629T140000
DTEND;TZID=America/New_York:20230629T140000
DTSTAMP:20260420T050601
CREATED:20230601T133409Z
LAST-MODIFIED:20230601T133503Z
UID:4220-1688047200-1688047200@iwg.stratacomm.agency
SUMMARY:Demonstration of procedure for submitting PACE letters of interest
DESCRIPTION:USDA’s Rural Utilities Service staff will provide an overview of the portal being used to submit Letters of Interest for the PACE program. Attendees will have the opportunity to ask questions about the funding requirements and process. 								\n				\n					\n				\n		\n					\n				\n				\n									\n					\n						\n									Register
URL:https://iwg.stratacomm.agency/event/demonstration-of-procedure-for-submitting-pace-letters-of-interest/
LOCATION:Webinar
END:VEVENT
END:VCALENDAR