BEGIN:VCALENDAR
VERSION:2.0
PRODID:-//Energy Communities - ECPv6.15.20//NONSGML v1.0//EN
CALSCALE:GREGORIAN
METHOD:PUBLISH
X-WR-CALNAME:Energy Communities
X-ORIGINAL-URL:https://iwg.stratacomm.agency
X-WR-CALDESC:Events for Energy Communities
REFRESH-INTERVAL;VALUE=DURATION:PT1H
X-Robots-Tag:noindex
X-PUBLISHED-TTL:PT1H
BEGIN:VTIMEZONE
TZID:America/New_York
BEGIN:DAYLIGHT
TZOFFSETFROM:-0500
TZOFFSETTO:-0400
TZNAME:EDT
DTSTART:20230312T070000
END:DAYLIGHT
BEGIN:STANDARD
TZOFFSETFROM:-0400
TZOFFSETTO:-0500
TZNAME:EST
DTSTART:20231105T060000
END:STANDARD
BEGIN:DAYLIGHT
TZOFFSETFROM:-0500
TZOFFSETTO:-0400
TZNAME:EDT
DTSTART:20240310T070000
END:DAYLIGHT
BEGIN:STANDARD
TZOFFSETFROM:-0400
TZOFFSETTO:-0500
TZNAME:EST
DTSTART:20241103T060000
END:STANDARD
BEGIN:DAYLIGHT
TZOFFSETFROM:-0500
TZOFFSETTO:-0400
TZNAME:EDT
DTSTART:20250309T070000
END:DAYLIGHT
BEGIN:STANDARD
TZOFFSETFROM:-0400
TZOFFSETTO:-0500
TZNAME:EST
DTSTART:20251102T060000
END:STANDARD
END:VTIMEZONE
BEGIN:VEVENT
DTSTART;TZID=America/New_York:20241219T133000
DTEND;TZID=America/New_York:20241219T150000
DTSTAMP:20260419T084643
CREATED:20241205T141438Z
LAST-MODIFIED:20241219T150332Z
UID:6313-1734615000-1734620400@iwg.stratacomm.agency
SUMMARY:Energy Community Conversations: Housing in America’s Energy Communities
DESCRIPTION:The Interagency Working Group on Coal and Power Plant Communities and Economic Revitalization (Energy Communities IWG) is hosting a virtual conversation focused on understanding housing challenges impacting America’s energy communities. The webinar will highlight community and federal efforts to build community capacity and feature examples of the innovative partnerships and investments that have led to successful housing development. Speakers will include leaders from the U.S. Environmental Protection Agency (EPA)\, Collective Clean Energy Fund\, CFC Properties\, HaydenTanner\, and the city of Greenbrier County\, WV. The webinar will feature: An overview of how to effectively develop partnerships and leverage investments for community development and economic growth.Case studies from community leaders showcasing how communities have utilized best practices to address housing challenges.Q&A session with speakers.Register for the webinar here. The agenda below is subject to change. 								\n				\n				\n				\n									\n					\n						\n									Register\n					\n					\n				\n								\n				\n				\n				\n									\n					\n						\n									 IWG Housing Factsheet\n					\n					\n				\n								\n				\n					\n				\n		\n					\n				\n				\n					Working Agenda				\n				\n					\n				\n		\n					\n				\n				\n									TopicSpeakersEastern TimeWelcome and Opening RemarksBrian Anderson\, Executive Director\, Energy Communities IWG Molly McCabe\, CEO and Founder\, HaydenTanner 1:30 p.m.A Blueprint for Collaboration: Partnerships in Housing Development Meadow River Valley Community Center Hon. Tammy Tincher\, Commissioner\, Greenbrier County\, WV Matt Ford\, President\, Greenbrier Environmental Group\, Inc.  1:40 p.m.Building Value: Leveraging Investments for Housing Growth Cook Medical Workforce Housing Initiative Ron Walker\, President\, CFC Properties1:50 p.m.Engaging With Energy Communities IWG Rapid Response TeamsRusty Bell\, Director of Diversification\, Office of Economic Transformation\, Gillette Community College Matthew Dalbey\, Senior Advisor for Economic Development\, U.S. Environmental Protection Agency (EPA) 2:00 p.m.Financing Futures: Unlocking Capital for Housing DevelopmentAnna Moon\, Head of Business Development\, Collective Clean Energy Fund2:10 p.m.Q&A DiscussionModerated by Molly McCabe\, CEO and Founder\, HaydenTanner2:20 p.m.Closing Remarks 2:45 p.m.
URL:https://iwg.stratacomm.agency/event/energy-community-conversations-housing-in-americas-energy-communities/
END:VEVENT
END:VCALENDAR