BEGIN:VCALENDAR
VERSION:2.0
PRODID:-//Energy Communities - ECPv6.15.20//NONSGML v1.0//EN
CALSCALE:GREGORIAN
METHOD:PUBLISH
X-WR-CALNAME:Energy Communities
X-ORIGINAL-URL:https://iwg.stratacomm.agency
X-WR-CALDESC:Events for Energy Communities
REFRESH-INTERVAL;VALUE=DURATION:PT1H
X-Robots-Tag:noindex
X-PUBLISHED-TTL:PT1H
BEGIN:VTIMEZONE
TZID:America/New_York
BEGIN:DAYLIGHT
TZOFFSETFROM:-0500
TZOFFSETTO:-0400
TZNAME:EDT
DTSTART:20230312T070000
END:DAYLIGHT
BEGIN:STANDARD
TZOFFSETFROM:-0400
TZOFFSETTO:-0500
TZNAME:EST
DTSTART:20231105T060000
END:STANDARD
BEGIN:DAYLIGHT
TZOFFSETFROM:-0500
TZOFFSETTO:-0400
TZNAME:EDT
DTSTART:20240310T070000
END:DAYLIGHT
BEGIN:STANDARD
TZOFFSETFROM:-0400
TZOFFSETTO:-0500
TZNAME:EST
DTSTART:20241103T060000
END:STANDARD
BEGIN:DAYLIGHT
TZOFFSETFROM:-0500
TZOFFSETTO:-0400
TZNAME:EDT
DTSTART:20250309T070000
END:DAYLIGHT
BEGIN:STANDARD
TZOFFSETFROM:-0400
TZOFFSETTO:-0500
TZNAME:EST
DTSTART:20251102T060000
END:STANDARD
END:VTIMEZONE
BEGIN:VEVENT
DTSTART;TZID=America/New_York:20240306T130000
DTEND;TZID=America/New_York:20240306T140000
DTSTAMP:20260421T065956
CREATED:20240201T211625Z
LAST-MODIFIED:20240306T191100Z
UID:5225-1709730000-1709733600@iwg.stratacomm.agency
SUMMARY:Getting Started: Meeting Communities Where They Are
DESCRIPTION:Join the Energy Communities IWG for a webinar highlighting key elements of our Getting Started Guide\, a planning and action tool for community leaders\, volunteers\, and change agents whose communities are facing economic transition. Energy Communities IWG leaders and experts will discuss: How to effectively use the Getting Started Guide to meet your community’s unique needs.Leveraging the guide based on the needs of your community’s economic transition.Case studies showcasing how communities have used the guide for economic development projects.								\n				\n				\n				\n									Working Agenda TopicSpeakersEastern TimeWelcome and Opening RemarksBrian Anderson\, Executive Director\, Energy Communities IWG1:00 p.m.Getting Started Guide OverviewCindy Winland\, Subject Matter Expert\, Energy Communities IWG1:05 p.m.Getting Started Guide Community ImplementationTwo community leaders talk through how they have used or plan to use the Getting Started Guide for local projects.Speakers:Chris Pasterz\, Economic Development Director\, Navajo County\, AZ Kathie Brown\, Director of Rural Outreach and Development\, Greater Peoria Economic Development Council1:15 p.m.Q&ADiscussion with all speakers.1:35 p.m.Closing RemarksBrian Anderson\, Executive Director\, Energy Communities IWG1:55 p.m.
URL:https://iwg.stratacomm.agency/event/getting-started-meeting-communities-where-they-are/
END:VEVENT
END:VCALENDAR