BEGIN:VCALENDAR
VERSION:2.0
PRODID:-//Energy Communities - ECPv6.15.20//NONSGML v1.0//EN
CALSCALE:GREGORIAN
METHOD:PUBLISH
X-WR-CALNAME:Energy Communities
X-ORIGINAL-URL:https://iwg.stratacomm.agency
X-WR-CALDESC:Events for Energy Communities
REFRESH-INTERVAL;VALUE=DURATION:PT1H
X-Robots-Tag:noindex
X-PUBLISHED-TTL:PT1H
BEGIN:VTIMEZONE
TZID:America/Chicago
BEGIN:DAYLIGHT
TZOFFSETFROM:-0600
TZOFFSETTO:-0500
TZNAME:CDT
DTSTART:20230312T080000
END:DAYLIGHT
BEGIN:STANDARD
TZOFFSETFROM:-0500
TZOFFSETTO:-0600
TZNAME:CST
DTSTART:20231105T070000
END:STANDARD
BEGIN:DAYLIGHT
TZOFFSETFROM:-0600
TZOFFSETTO:-0500
TZNAME:CDT
DTSTART:20240310T080000
END:DAYLIGHT
BEGIN:STANDARD
TZOFFSETFROM:-0500
TZOFFSETTO:-0600
TZNAME:CST
DTSTART:20241103T070000
END:STANDARD
BEGIN:DAYLIGHT
TZOFFSETFROM:-0600
TZOFFSETTO:-0500
TZNAME:CDT
DTSTART:20250309T080000
END:DAYLIGHT
BEGIN:STANDARD
TZOFFSETFROM:-0500
TZOFFSETTO:-0600
TZNAME:CST
DTSTART:20251102T070000
END:STANDARD
END:VTIMEZONE
BEGIN:VEVENT
DTSTART;TZID=America/Chicago:20240416T090000
DTEND;TZID=America/Chicago:20240416T150000
DTSTAMP:20260422T050344
CREATED:20240213T134221Z
LAST-MODIFIED:20240416T185042Z
UID:5283-1713258000-1713279600@iwg.stratacomm.agency
SUMMARY:Illinois Coal Basin § 48C Regional Event
DESCRIPTION:Join the Office of Manufacturing and Energy Supply Chains (MESC) and the Energy Communities IWG in Evansville\, Indiana\, on Tuesday\, April 16\, 2024\, for an event bringing together federal officials\, private sector leaders\, and local communities to discuss the Qualifying Advanced Energy Project Credit (§ 48C) program. The § 48C program was established by the American Recovery and Reinvestment Act of 2009 and was expanded with a $10 billion investment under the Inflation Reduction Act of 2022 to fund projects that: Expand clean energy manufacturing and recycling.Expand critical materials processing and refining.Reduce greenhouse gas emissions at industrial facilities.The § 48C program will provide an investment tax credit of up to 30% of qualified investments for certified projects that meet prevailing wage and apprenticeship requirements. The program also sets aside 40% of funds for projects in designated energy communities—communities with closed coal plants or mines—to encourage job creation and economic growth in all pockets of America. This event will include: An overview of the Inflation Reduction Act’s $10 billion § 48C program.Discussion of the advantages of investing in rural communities.Networking with federal officials\, community leaders\, and clean energy manufacturing professionals.The event will be focused on the Inflation Reduction Act’s $10 billion Qualifying Advanced Energy Project Credit (48C) Program. These events will share publicly available information. All information shared at the events will be made available to non-attendees. Speakers will share publicly available information\, all of which will be made available to non-attendees. The event is open to the public. Project developers\, asset owners\, financiers\, local/state/federal officials\, community leaders\, nongovernmental organizations\, and worker organizations will be invited\, among others. For more information on events\, please email us at contact@iwg.stratacomm.agency.Please submit any programmatic questions to 48CQuestions@hq.doe.gov. 								\n				\n				\n				\n					Agenda				\n				\n				\n				\n									Tuesday\, April 16\, 2024University of Southern Indiana\, Josephine K. Carter HallEvansville\, IN 								\n				\n				\n				\n									TOPIC SPEAKERSCENTRAL TIME Registration & Networking  9:00–10:00 a.m.Federal and State Partner Office HoursAttendees can speak directly with federal and state officials to discuss funding and technical opportunities that can directly impact their project and communities. Including representatives from: U.S. Department of Energy’s Office of Manufacturing and Energy Supply ChainsU.S. Army Corps of EngineersU.S. Department of Energy Loan Programs OfficeU.S. Small Business AdministrationU.S. Department of Agriculture Rural DevelopmentEnergy Communities IWG9:00–10:00 a.m.Welcome and Opening RemarksBriggs White\, Deputy Executive Director\, Energy Communities IWG (moderator) Rachel McCleery\, Senior Advisor\, U.S. Department of the Treasury 10:00–10:30 a.m.Office of Manufacturing and Energy Supply Chains\, § 48C Program Overview\, and Other Relevant ProgramsInformational session providing background on the U.S. Department of Energy’s Office of Manufacturing and Energy Supply Chains (MESC)\, an overview of the Qualifying Advanced Energy Project Credit (§ 48C) program\, and a summary of other relevant MESC programs.    Zack Valdez\, Ph.D.\, Strategic Advisor\, Department of Energy Office of Manufacturing and Energy Supply Chains 10:30–11:00 a.m.§ 48C Q&A Panel DiscussionQ&A session with federal officials to address questions relating to the § 48C program and other federal opportunities designed to foster economic revitalization in energy communities.  Zack Valdez\, Ph.D.\, Strategic Advisor\, Department of Energy Office of Manufacturing and Energy Supply Chains Rachel McCleery\, Senior Advisor\, U.S. Department of the Treasury Briggs White\, Deputy Executive Director\, Energy Communities IWG 11:00–11:30 a.m.Lunch and Networking 11:30 a.m.–12:30 p.m.To Be Announced 12:30–1:00 p.m.Building Successful Projects for Energy Communities Panel DiscussionBetsy Dirksen Londrigan\,Administrator\, Rural Business Cooperative Service\, U.S. Department of Agriculture Alyson Grady\, Deputy Director\, Office of Regional Economic Development\, Illinois Department of Commerce & Economic Opportunity  Additional speakers to be announced 1:00–1:45 p.m.Closing RemarksBriggs White\, Deputy Executive Director\, Energy Communities IWG1:45–2:00 p.m.Federal and State Partner Office HoursAttendees can speak directly with federal and state officials to discuss funding and technical opportunities that can directly impact their project and communities. Including representatives from: U.S. Department of Energy’s Office of Manufacturing and Energy Supply ChainsU.S. Army Corps of EngineersU.S. Department of Energy Loan Programs OfficeU.S. Small Business AdministrationU.S. Department of Agriculture Rural DevelopmentEnergy Communities IWG2:00–3:00 p.m.								\n				\n				\n				\n					Register
URL:https://iwg.stratacomm.agency/event/illinois-coal-basin-%c2%a7-48c-regional-development-workshop/
LOCATION:University of Southern Indiana\, Josephine K. Carter Hall\, University Center West\, 8600 University Blvd.\, Evansville\, IN\, 47712\, United States
END:VEVENT
END:VCALENDAR