BEGIN:VCALENDAR
VERSION:2.0
PRODID:-//Energy Communities - ECPv6.15.20//NONSGML v1.0//EN
CALSCALE:GREGORIAN
METHOD:PUBLISH
X-WR-CALNAME:Energy Communities
X-ORIGINAL-URL:https://iwg.stratacomm.agency
X-WR-CALDESC:Events for Energy Communities
REFRESH-INTERVAL;VALUE=DURATION:PT1H
X-Robots-Tag:noindex
X-PUBLISHED-TTL:PT1H
BEGIN:VTIMEZONE
TZID:America/New_York
BEGIN:DAYLIGHT
TZOFFSETFROM:-0500
TZOFFSETTO:-0400
TZNAME:EDT
DTSTART:20210314T070000
END:DAYLIGHT
BEGIN:STANDARD
TZOFFSETFROM:-0400
TZOFFSETTO:-0500
TZNAME:EST
DTSTART:20211107T060000
END:STANDARD
BEGIN:DAYLIGHT
TZOFFSETFROM:-0500
TZOFFSETTO:-0400
TZNAME:EDT
DTSTART:20220313T070000
END:DAYLIGHT
BEGIN:STANDARD
TZOFFSETFROM:-0400
TZOFFSETTO:-0500
TZNAME:EST
DTSTART:20221106T060000
END:STANDARD
BEGIN:DAYLIGHT
TZOFFSETFROM:-0500
TZOFFSETTO:-0400
TZNAME:EDT
DTSTART:20230312T070000
END:DAYLIGHT
BEGIN:STANDARD
TZOFFSETFROM:-0400
TZOFFSETTO:-0500
TZNAME:EST
DTSTART:20231105T060000
END:STANDARD
END:VTIMEZONE
BEGIN:VEVENT
DTSTART;TZID=America/New_York:20220209T143000
DTEND;TZID=America/New_York:20220209T160000
DTSTAMP:20260422T185840
CREATED:20220201T195428Z
LAST-MODIFIED:20220202T142033Z
UID:1664-1644417000-1644422400@iwg.stratacomm.agency
SUMMARY:Infrastructure Investment and Jobs Act Broadband Programs Public Virtual Listening Session #4
DESCRIPTION:Department of Commerce / National Telecommunications and Information Administration Funding This listening session will focus on the Enabling Middle Mile Infrastructure Program. NTIA will provide a deep dive into the Enabling Middle Mile Broadband Infrastructure Program and its parameters under the Infrastructure Investment and Jobs Act (IIJA). 								\n				\n				\n				\n									\n					\n						\n									Learn More & Register
URL:https://iwg.stratacomm.agency/event/infrastructure-investment-and-jobs-act-broadband-programs-public-virtual-listening-session-4/
END:VEVENT
END:VCALENDAR