BEGIN:VCALENDAR
VERSION:2.0
PRODID:-//Energy Communities - ECPv6.15.20//NONSGML v1.0//EN
CALSCALE:GREGORIAN
METHOD:PUBLISH
X-WR-CALNAME:Energy Communities
X-ORIGINAL-URL:https://iwg.stratacomm.agency
X-WR-CALDESC:Events for Energy Communities
REFRESH-INTERVAL;VALUE=DURATION:PT1H
X-Robots-Tag:noindex
X-PUBLISHED-TTL:PT1H
BEGIN:VTIMEZONE
TZID:America/New_York
BEGIN:DAYLIGHT
TZOFFSETFROM:-0500
TZOFFSETTO:-0400
TZNAME:EDT
DTSTART:20220313T070000
END:DAYLIGHT
BEGIN:STANDARD
TZOFFSETFROM:-0400
TZOFFSETTO:-0500
TZNAME:EST
DTSTART:20221106T060000
END:STANDARD
BEGIN:DAYLIGHT
TZOFFSETFROM:-0500
TZOFFSETTO:-0400
TZNAME:EDT
DTSTART:20230312T070000
END:DAYLIGHT
BEGIN:STANDARD
TZOFFSETFROM:-0400
TZOFFSETTO:-0500
TZNAME:EST
DTSTART:20231105T060000
END:STANDARD
BEGIN:DAYLIGHT
TZOFFSETFROM:-0500
TZOFFSETTO:-0400
TZNAME:EDT
DTSTART:20240310T070000
END:DAYLIGHT
BEGIN:STANDARD
TZOFFSETFROM:-0400
TZOFFSETTO:-0500
TZNAME:EST
DTSTART:20241103T060000
END:STANDARD
END:VTIMEZONE
BEGIN:VEVENT
DTSTART;TZID=America/New_York:20230221T110000
DTEND;TZID=America/New_York:20230221T120000
DTSTAMP:20260422T125809
CREATED:20230210T125143Z
LAST-MODIFIED:20230210T130714Z
UID:3333-1676977200-1676980800@iwg.stratacomm.agency
SUMMARY:Joint DOE/EDA Webinar Series: Investing in Energy Communities - Focus on Illinois Basin Region
DESCRIPTION:HostU.S. Department of Energy – Office of Manufacturing and Energy Supply Chains AgendaDOE and EDA are inviting small- and medium-sized manufacturers\, universities\, place-based stakeholders\, regional\, state\, and local economic and community development entities\, and all other interested parties to join the webinar to learn more about the Advanced Energy Manufacturing and Recycling Grant Program (BIL Section 40209) and the potential for maximizing DOE’s place-based investments for wide-ranging community and regional impact in these energy communities. This regional webinar will be focused on Illinois Basin Region (including IWG Priority Communities in Illinois\, Indiana\, and Western Kentucky. While this webinar seeks to bring together organizations from this specific region\, we invite participants from outside of this area to join as well. 								\n				\n				\n				\n									\n					\n						\n									Register
URL:https://iwg.stratacomm.agency/event/joint-doe-eda-webinar-series-investing-in-energy-communities-focus-on-illinois-basin-region/
END:VEVENT
END:VCALENDAR