BEGIN:VCALENDAR
VERSION:2.0
PRODID:-//Energy Communities - ECPv6.15.20//NONSGML v1.0//EN
CALSCALE:GREGORIAN
METHOD:PUBLISH
X-WR-CALNAME:Energy Communities
X-ORIGINAL-URL:https://iwg.stratacomm.agency
X-WR-CALDESC:Events for Energy Communities
REFRESH-INTERVAL;VALUE=DURATION:PT1H
X-Robots-Tag:noindex
X-PUBLISHED-TTL:PT1H
BEGIN:VTIMEZONE
TZID:America/New_York
BEGIN:DAYLIGHT
TZOFFSETFROM:-0500
TZOFFSETTO:-0400
TZNAME:EDT
DTSTART:20220313T070000
END:DAYLIGHT
BEGIN:STANDARD
TZOFFSETFROM:-0400
TZOFFSETTO:-0500
TZNAME:EST
DTSTART:20221106T060000
END:STANDARD
BEGIN:DAYLIGHT
TZOFFSETFROM:-0500
TZOFFSETTO:-0400
TZNAME:EDT
DTSTART:20230312T070000
END:DAYLIGHT
BEGIN:STANDARD
TZOFFSETFROM:-0400
TZOFFSETTO:-0500
TZNAME:EST
DTSTART:20231105T060000
END:STANDARD
BEGIN:DAYLIGHT
TZOFFSETFROM:-0500
TZOFFSETTO:-0400
TZNAME:EDT
DTSTART:20240310T070000
END:DAYLIGHT
BEGIN:STANDARD
TZOFFSETFROM:-0400
TZOFFSETTO:-0500
TZNAME:EST
DTSTART:20241103T060000
END:STANDARD
END:VTIMEZONE
BEGIN:VEVENT
DTSTART;TZID=America/New_York:20230626T100000
DTEND;TZID=America/New_York:20230626T163000
DTSTAMP:20260422T101514
CREATED:20230501T203727Z
LAST-MODIFIED:20230503T135219Z
UID:3958-1687773600-1687797000@iwg.stratacomm.agency
SUMMARY:Minnesota Energy Transition Summit
DESCRIPTION:Join the Minnesota Department of Employment & Economic Development’s Office of Energy Transition as they host the Minnesota Energy Transition Summit. This event is targeted for impacted communities that have impacted facilities as defined in Minnesota State Statute 116J.5491. You can find the statute listed on this website: https://www.revisor.mn.gov/statutes/2021/cite/116J.5491.  								\n				\n				\n				\n									\n					\n						\n									Register
URL:https://iwg.stratacomm.agency/event/minnesota-energy-transition-summit/
LOCATION:Pebble Creek Golf Club\, 14000 Clubhouse Lane\, Becker\, MN\, 55308\, United States
END:VEVENT
END:VCALENDAR