BEGIN:VCALENDAR
VERSION:2.0
PRODID:-//Energy Communities - ECPv6.15.20//NONSGML v1.0//EN
CALSCALE:GREGORIAN
METHOD:PUBLISH
X-WR-CALNAME:Energy Communities
X-ORIGINAL-URL:https://iwg.stratacomm.agency
X-WR-CALDESC:Events for Energy Communities
REFRESH-INTERVAL;VALUE=DURATION:PT1H
X-Robots-Tag:noindex
X-PUBLISHED-TTL:PT1H
BEGIN:VTIMEZONE
TZID:America/New_York
BEGIN:DAYLIGHT
TZOFFSETFROM:-0500
TZOFFSETTO:-0400
TZNAME:EDT
DTSTART:20220313T070000
END:DAYLIGHT
BEGIN:STANDARD
TZOFFSETFROM:-0400
TZOFFSETTO:-0500
TZNAME:EST
DTSTART:20221106T060000
END:STANDARD
BEGIN:DAYLIGHT
TZOFFSETFROM:-0500
TZOFFSETTO:-0400
TZNAME:EDT
DTSTART:20230312T070000
END:DAYLIGHT
BEGIN:STANDARD
TZOFFSETFROM:-0400
TZOFFSETTO:-0500
TZNAME:EST
DTSTART:20231105T060000
END:STANDARD
BEGIN:DAYLIGHT
TZOFFSETFROM:-0500
TZOFFSETTO:-0400
TZNAME:EDT
DTSTART:20240310T070000
END:DAYLIGHT
BEGIN:STANDARD
TZOFFSETFROM:-0400
TZOFFSETTO:-0500
TZNAME:EST
DTSTART:20241103T060000
END:STANDARD
END:VTIMEZONE
BEGIN:VEVENT
DTSTART;TZID=America/New_York:20230614T130000
DTEND;TZID=America/New_York:20230614T140000
DTSTAMP:20260422T050612
CREATED:20230503T144807Z
LAST-MODIFIED:20230503T145827Z
UID:3963-1686747600-1686751200@iwg.stratacomm.agency
SUMMARY:NEPA Considerations for Siting Clean Energy on Mine Land
DESCRIPTION:DOE OCED is proud to present a webinar on the National Environmental Policy Act (NEPA). NEPA requires federal agencies to assess the environmental effects of their proposed actions prior to making decisions. The webinar will cover the key provisions of NEPA and the process for complying with NEPA in accordance with applicable laws and regulations\, including the Council on Environmental Quality NEPA Implementing Regulations (40 CFR Parts 1500-1508) and DOE’s NEPA Implementing Regulations (10 CFR Part 1021). Participants will learn about the process for completing environmental assessments and environmental impact statements. This webinar is open to the public and focuses on information relevant to the Clean Energy Demonstration Program on Current and Former Mine Land. Presenters: Kristin Kerwin\, ESH director\, DOE\, OCEDGretchen Applegate\, NEPA specialist\, DOE OCEDLogan Sholar\, natural resource specialist\, U.S. Department of the Interior\, Office of Surface Mining Reclamation and Enforcement								\n				\n				\n				\n									\n					\n						\n									register
URL:https://iwg.stratacomm.agency/event/nepa-considerations-for-siting-clean-energy-on-mine-land/
LOCATION:Webinar
END:VEVENT
END:VCALENDAR