BEGIN:VCALENDAR
VERSION:2.0
PRODID:-//Energy Communities - ECPv6.15.20//NONSGML v1.0//EN
CALSCALE:GREGORIAN
METHOD:PUBLISH
X-WR-CALNAME:Energy Communities
X-ORIGINAL-URL:https://iwg.stratacomm.agency
X-WR-CALDESC:Events for Energy Communities
REFRESH-INTERVAL;VALUE=DURATION:PT1H
X-Robots-Tag:noindex
X-PUBLISHED-TTL:PT1H
BEGIN:VTIMEZONE
TZID:America/New_York
BEGIN:DAYLIGHT
TZOFFSETFROM:-0500
TZOFFSETTO:-0400
TZNAME:EDT
DTSTART:20210314T070000
END:DAYLIGHT
BEGIN:STANDARD
TZOFFSETFROM:-0400
TZOFFSETTO:-0500
TZNAME:EST
DTSTART:20211107T060000
END:STANDARD
BEGIN:DAYLIGHT
TZOFFSETFROM:-0500
TZOFFSETTO:-0400
TZNAME:EDT
DTSTART:20220313T070000
END:DAYLIGHT
BEGIN:STANDARD
TZOFFSETFROM:-0400
TZOFFSETTO:-0500
TZNAME:EST
DTSTART:20221106T060000
END:STANDARD
BEGIN:DAYLIGHT
TZOFFSETFROM:-0500
TZOFFSETTO:-0400
TZNAME:EDT
DTSTART:20230312T070000
END:DAYLIGHT
BEGIN:STANDARD
TZOFFSETFROM:-0400
TZOFFSETTO:-0500
TZNAME:EST
DTSTART:20231105T060000
END:STANDARD
END:VTIMEZONE
BEGIN:VEVENT
DTSTART;TZID=America/New_York:20220406T143000
DTEND;TZID=America/New_York:20220406T160000
DTSTAMP:20260422T185706
CREATED:20220303T141526Z
LAST-MODIFIED:20220311T204039Z
UID:1848-1649255400-1649260800@iwg.stratacomm.agency
SUMMARY:IIJA Broadband Programs Pre-NOFO Technical Assistance Webinar #3 (NTIA)
DESCRIPTION:NTIA’s pre-NOFO technical assistance webinars are designed to help prospective applicants understand NTIA’s IIJA broadband grant programs and to assist applicants to prepare high quality grant applications. This webinar will focus on enabling conditions. NTIA will have additional technical assistance webinars from March-May 2022. Please visit the upcoming events section on their BroadbandUSA website to learn more about these webinars\, planned for the following dates: Wednesday\, April 27\, 2022\, from 2:30-4:00 p.m. ET The focus of this session will be Digital Equity & InclusionWednesday\, May 11\, 2022\, from 2:30-4:00 p.m. ET The focus of this session will be Managing Costs and Supply Chains								\n				\n				\n				\n									\n					\n						\n									Register
URL:https://iwg.stratacomm.agency/event/ntia-iija-broadband-programs-pre-nofo-technical-assistance-webinar-3/
END:VEVENT
END:VCALENDAR