BEGIN:VCALENDAR
VERSION:2.0
PRODID:-//Energy Communities - ECPv6.15.20//NONSGML v1.0//EN
CALSCALE:GREGORIAN
METHOD:PUBLISH
X-WR-CALNAME:Energy Communities
X-ORIGINAL-URL:https://iwg.stratacomm.agency
X-WR-CALDESC:Events for Energy Communities
REFRESH-INTERVAL;VALUE=DURATION:PT1H
X-Robots-Tag:noindex
X-PUBLISHED-TTL:PT1H
BEGIN:VTIMEZONE
TZID:America/New_York
BEGIN:DAYLIGHT
TZOFFSETFROM:-0500
TZOFFSETTO:-0400
TZNAME:EDT
DTSTART:20220313T070000
END:DAYLIGHT
BEGIN:STANDARD
TZOFFSETFROM:-0400
TZOFFSETTO:-0500
TZNAME:EST
DTSTART:20221106T060000
END:STANDARD
BEGIN:DAYLIGHT
TZOFFSETFROM:-0500
TZOFFSETTO:-0400
TZNAME:EDT
DTSTART:20230312T070000
END:DAYLIGHT
BEGIN:STANDARD
TZOFFSETFROM:-0400
TZOFFSETTO:-0500
TZNAME:EST
DTSTART:20231105T060000
END:STANDARD
BEGIN:DAYLIGHT
TZOFFSETFROM:-0500
TZOFFSETTO:-0400
TZNAME:EDT
DTSTART:20240310T070000
END:DAYLIGHT
BEGIN:STANDARD
TZOFFSETFROM:-0400
TZOFFSETTO:-0500
TZNAME:EST
DTSTART:20241103T060000
END:STANDARD
END:VTIMEZONE
BEGIN:VEVENT
DTSTART;TZID=America/New_York:20230629T140000
DTEND;TZID=America/New_York:20230629T140000
DTSTAMP:20260420T050431
CREATED:20230615T194636Z
LAST-MODIFIED:20230629T171504Z
UID:4271-1688047200-1688047200@iwg.stratacomm.agency
SUMMARY:Overcoming Common Infrastructure Challenges in Energy Communities Part One: Transportation & Electric Grid Infrastructure
DESCRIPTION:Addressing infrastructure challenges is a top priority for energy communities throughout the nation. The Bipartisan Infrastructure Law includes historic investments in America’s core infrastructure that lower energy costs\, enhance energy security\, and jump-start a new era of clean energy jobs for energy communities. The Interagency Working Group on Coal and Power Plant Communities and Economic Revitalization (Energy Communities IWG) will host a two-part webinar series highlighting these historic investments. “Overcoming Common Infrastructure Challenges in Energy Communities – Part 1” will take place on Thursday\, June 29 at 2:00 p.m. EDT. 								\n				\n				\n				\n									\n					\n						\n									Register\n					\n					\n				\n								\n				\n				\n				\n									\n\n\nTopic\nSpeakers\nEastern Time\n\n\nWelcome & Opening Remarks\nBrian AndersonExecutive DirectorEnergy Communities IWG\n2:00 p.m.\n\n\nKeynote Address\nRyan BerniSpecial Assistant to the President & Senior Advisor for Infrastructure ImplementationWhite House\n2:05 p.m.\n\n\nSpotlight: Rural Opportunities to Use Transportation for Economic Success (ROUTES)\nAmanda RogersPolicy AnalystU.S. Department of Transportation\n2:12 p.m.\n\n\nSpotlight: Grid Infrastructure\nWhitney MuseSenior AdvisorU.S. Department of Energy\n2:19 p.m.\n\n\nSpotlight: Workforce Considerations\nMolly BashayPolicy AdvisorU.S. Department of Labor\n2:26 p.m.\n\n\nQ&A \nDiscussion with all speakers. \n2:33 p.m.\n\n\nClosing Remarks\nBrian AndersonExecutive DirectorEnergy Communities IWG\n2:55 p.m.
URL:https://iwg.stratacomm.agency/event/overcoming-common-infrastructure-challenges-in-energy-communities-part-one-transportation-electric-grid-infrastructure/
LOCATION:Webinar
END:VEVENT
END:VCALENDAR