BEGIN:VCALENDAR
VERSION:2.0
PRODID:-//Energy Communities - ECPv6.15.20//NONSGML v1.0//EN
CALSCALE:GREGORIAN
METHOD:PUBLISH
X-WR-CALNAME:Energy Communities
X-ORIGINAL-URL:https://iwg.stratacomm.agency
X-WR-CALDESC:Events for Energy Communities
REFRESH-INTERVAL;VALUE=DURATION:PT1H
X-Robots-Tag:noindex
X-PUBLISHED-TTL:PT1H
BEGIN:VTIMEZONE
TZID:America/New_York
BEGIN:DAYLIGHT
TZOFFSETFROM:-0500
TZOFFSETTO:-0400
TZNAME:EDT
DTSTART:20220313T070000
END:DAYLIGHT
BEGIN:STANDARD
TZOFFSETFROM:-0400
TZOFFSETTO:-0500
TZNAME:EST
DTSTART:20221106T060000
END:STANDARD
BEGIN:DAYLIGHT
TZOFFSETFROM:-0500
TZOFFSETTO:-0400
TZNAME:EDT
DTSTART:20230312T070000
END:DAYLIGHT
BEGIN:STANDARD
TZOFFSETFROM:-0400
TZOFFSETTO:-0500
TZNAME:EST
DTSTART:20231105T060000
END:STANDARD
BEGIN:DAYLIGHT
TZOFFSETFROM:-0500
TZOFFSETTO:-0400
TZNAME:EDT
DTSTART:20240310T070000
END:DAYLIGHT
BEGIN:STANDARD
TZOFFSETFROM:-0400
TZOFFSETTO:-0500
TZNAME:EST
DTSTART:20241103T060000
END:STANDARD
END:VTIMEZONE
BEGIN:VEVENT
DTSTART;TZID=America/New_York:20230717T140000
DTEND;TZID=America/New_York:20230717T153000
DTSTAMP:20260420T050509
CREATED:20230616T154317Z
LAST-MODIFIED:20230717T170302Z
UID:4302-1689602400-1689607800@iwg.stratacomm.agency
SUMMARY:Overcoming Common Infrastructure Challenges in Energy Communities Part Two: Water\, Sewer & Broadband
DESCRIPTION:Addressing infrastructure challenges is a top priority for energy communities throughout the nation. The Bipartisan Infrastructure Law includes historic investments in America’s core infrastructure that lower energy costs\, enhance energy security\, and jump-start a new era of clean energy jobs for energy communities. The Interagency Working Group on Coal and Power Plant Communities and Economic Revitalization (Energy Communities IWG) will host a two-part webinar series highlighting these historic investments. Join us in July as we gear up to present the much-awaited second part of our highly anticipated webinar series: “Overcoming Common Infrastructure Challenges in Energy Communities” – Part 2. Key Topics to be Covered: Gain insights into the latest infrastructure challenges affecting energy communities.Explore real-life case studies that highlight successful solutions and strategies.Participate in an enlightening expert panel discussion and dynamic Q&A session.Don’t miss this incredible opportunity to network with industry leaders\, gain valuable expertise\, and contribute to the future of energy communities.  For further information or inquiries about this webinar series\, please don’t hesitate to contact us at contact@iwg.stratacomm.agency 								\n				\n				\n				\n									\n					\n						\n									Register\n					\n					\n				\n								\n				\n				\n				\n									TopicSpeakersEastern TimeWelcome & Opening RemarksBrian AndersonExecutive DirectorEnergy Communities IWG 2:00 p.m.Fireside ChatPanelists: Ali Zaidi White HouseNational Climate Advisor  Gayle ManchinFederal Co-ChairAppalachian Regional Commission Farah AhmadDeputy Under Secretary for Rural DevelopmentU.S. Department of Agriculture Moderator: Brian Anderson\, Executive Director\, Energy Communities IWG 2:05 p.m.Spotlight: Broadband and InfrastructureDoug LynottU.S. Economic Development Administration Courtney DozierNational Telecommunications and Information Administration 2:35 p.m.Spotlight: Clean Water & Sewer ResourcesEllen TarquinioU.S. Environmental Protection Agency 2:45 p.m.Spotlight: USDA Water/Sewer and Broadband ResourcesRyan ThornState Director for West VirginiaU.S. Department of Agriculture Rural DevelopmentLaurel LeverrierAssistant AdministratorU.S. Department of Agriculture Rural DevelopmentTelecommunications Programs 2:55 p.m.Q&ADiscussion with all speakers. 3:05 p.m.Closing RemarksBrian AndersonExecutive DirectorEnergy Communities IWG 3:25 p.m.								\n				\n				\n				\n									\n					\n						\n									Register
URL:https://iwg.stratacomm.agency/event/overcoming-common-infrastructure-challenges-in-energy-communities-part-two-water-sewer-broadband/
LOCATION:Webinar
END:VEVENT
END:VCALENDAR