BEGIN:VCALENDAR
VERSION:2.0
PRODID:-//Energy Communities - ECPv6.15.20//NONSGML v1.0//EN
CALSCALE:GREGORIAN
METHOD:PUBLISH
X-WR-CALNAME:Energy Communities
X-ORIGINAL-URL:https://iwg.stratacomm.agency
X-WR-CALDESC:Events for Energy Communities
REFRESH-INTERVAL;VALUE=DURATION:PT1H
X-Robots-Tag:noindex
X-PUBLISHED-TTL:PT1H
BEGIN:VTIMEZONE
TZID:America/New_York
BEGIN:DAYLIGHT
TZOFFSETFROM:-0500
TZOFFSETTO:-0400
TZNAME:EDT
DTSTART:20220313T070000
END:DAYLIGHT
BEGIN:STANDARD
TZOFFSETFROM:-0400
TZOFFSETTO:-0500
TZNAME:EST
DTSTART:20221106T060000
END:STANDARD
BEGIN:DAYLIGHT
TZOFFSETFROM:-0500
TZOFFSETTO:-0400
TZNAME:EDT
DTSTART:20230312T070000
END:DAYLIGHT
BEGIN:STANDARD
TZOFFSETFROM:-0400
TZOFFSETTO:-0500
TZNAME:EST
DTSTART:20231105T060000
END:STANDARD
BEGIN:DAYLIGHT
TZOFFSETFROM:-0500
TZOFFSETTO:-0400
TZNAME:EDT
DTSTART:20240310T070000
END:DAYLIGHT
BEGIN:STANDARD
TZOFFSETFROM:-0400
TZOFFSETTO:-0500
TZNAME:EST
DTSTART:20241103T060000
END:STANDARD
END:VTIMEZONE
BEGIN:VEVENT
DTSTART;TZID=America/New_York:20230531T143000
DTEND;TZID=America/New_York:20230531T153000
DTSTAMP:20260420T081833
CREATED:20230516T164907Z
LAST-MODIFIED:20230516T175126Z
UID:4115-1685543400-1685547000@iwg.stratacomm.agency
SUMMARY:USDA Overview of Funding Available Through IRA Webinar #3
DESCRIPTION:RUS will provide background on the NOFOs for PACE and New ERA that were published in the Federal Register on May 16\, 2023. RUS will also provide a brief overview of how these programs compare to other federal clean energy programs in rural America. Attendees will have the opportunity to ask questions concerning the NOFOs and the process for applying for awards under the PACE and New ERA programs. 								\n				\n				\n				\n									\n					\n						\n									Register
URL:https://iwg.stratacomm.agency/event/overview-of-funding-available-through-ira-webinar-3/
END:VEVENT
END:VCALENDAR