BEGIN:VCALENDAR
VERSION:2.0
PRODID:-//Energy Communities - ECPv6.15.20//NONSGML v1.0//EN
CALSCALE:GREGORIAN
METHOD:PUBLISH
X-WR-CALNAME:Energy Communities
X-ORIGINAL-URL:https://iwg.stratacomm.agency
X-WR-CALDESC:Events for Energy Communities
REFRESH-INTERVAL;VALUE=DURATION:PT1H
X-Robots-Tag:noindex
X-PUBLISHED-TTL:PT1H
BEGIN:VTIMEZONE
TZID:America/New_York
BEGIN:DAYLIGHT
TZOFFSETFROM:-0500
TZOFFSETTO:-0400
TZNAME:EDT
DTSTART:20210314T070000
END:DAYLIGHT
BEGIN:STANDARD
TZOFFSETFROM:-0400
TZOFFSETTO:-0500
TZNAME:EST
DTSTART:20211107T060000
END:STANDARD
BEGIN:DAYLIGHT
TZOFFSETFROM:-0500
TZOFFSETTO:-0400
TZNAME:EDT
DTSTART:20220313T070000
END:DAYLIGHT
BEGIN:STANDARD
TZOFFSETFROM:-0400
TZOFFSETTO:-0500
TZNAME:EST
DTSTART:20221106T060000
END:STANDARD
BEGIN:DAYLIGHT
TZOFFSETFROM:-0500
TZOFFSETTO:-0400
TZNAME:EDT
DTSTART:20230312T070000
END:DAYLIGHT
BEGIN:STANDARD
TZOFFSETFROM:-0400
TZOFFSETTO:-0500
TZNAME:EST
DTSTART:20231105T060000
END:STANDARD
END:VTIMEZONE
BEGIN:VEVENT
DTSTART;TZID=America/New_York:20220217T140000
DTEND;TZID=America/New_York:20220217T150000
DTSTAMP:20260422T203709
CREATED:20220208T134825Z
LAST-MODIFIED:20220208T134855Z
UID:1673-1645106400-1645110000@iwg.stratacomm.agency
SUMMARY:Recipes for Online Success: An ANRC Workshop
DESCRIPTION:The Appalachian Nonprofit Resource Center\, a program of the Appalachian Regional Commission\, is excited to invite nonprofit professionals and the general public to join a free webinar offering an open forum for knowledge sharing\, networking\, and learning from experts about how to enhance digital fundraising\, brand messaging\, and volunteer management efforts to magnify your impact on the populations you serve. On February 17th\, at 2pm\, ANRC will host “Nonprofits Online: Recipes for Success\,” a virtual workshop sharing insights on a successful social media presence\, crowdfunding online\, and digital volunteer management. 								\n				\n				\n				\n									\n					\n						\n									Register
URL:https://iwg.stratacomm.agency/event/recipes-for-online-success-an-anrc-workshop/
END:VEVENT
END:VCALENDAR