BEGIN:VCALENDAR
VERSION:2.0
PRODID:-//Energy Communities - ECPv6.15.20//NONSGML v1.0//EN
CALSCALE:GREGORIAN
METHOD:PUBLISH
X-WR-CALNAME:Energy Communities
X-ORIGINAL-URL:https://iwg.stratacomm.agency
X-WR-CALDESC:Events for Energy Communities
REFRESH-INTERVAL;VALUE=DURATION:PT1H
X-Robots-Tag:noindex
X-PUBLISHED-TTL:PT1H
BEGIN:VTIMEZONE
TZID:America/New_York
BEGIN:DAYLIGHT
TZOFFSETFROM:-0500
TZOFFSETTO:-0400
TZNAME:EDT
DTSTART:20210314T070000
END:DAYLIGHT
BEGIN:STANDARD
TZOFFSETFROM:-0400
TZOFFSETTO:-0500
TZNAME:EST
DTSTART:20211107T060000
END:STANDARD
BEGIN:DAYLIGHT
TZOFFSETFROM:-0500
TZOFFSETTO:-0400
TZNAME:EDT
DTSTART:20220313T070000
END:DAYLIGHT
BEGIN:STANDARD
TZOFFSETFROM:-0400
TZOFFSETTO:-0500
TZNAME:EST
DTSTART:20221106T060000
END:STANDARD
BEGIN:DAYLIGHT
TZOFFSETFROM:-0500
TZOFFSETTO:-0400
TZNAME:EDT
DTSTART:20230312T070000
END:DAYLIGHT
BEGIN:STANDARD
TZOFFSETFROM:-0400
TZOFFSETTO:-0500
TZNAME:EST
DTSTART:20231105T060000
END:STANDARD
END:VTIMEZONE
BEGIN:VEVENT
DTSTART;TZID=America/New_York:20220330T120000
DTEND;TZID=America/New_York:20220330T170000
DTSTAMP:20260421T101859
CREATED:20220218T125645Z
LAST-MODIFIED:20220330T154620Z
UID:1765-1648641600-1648659600@iwg.stratacomm.agency
SUMMARY:Repurposing Fossil Energy Assets
DESCRIPTION:Meeting link and login information below: \nDate and time:  Wed\, Mar. 30\, 2022 12:00 pm – 5:00 pm ETEvent address for attendees:https://us02web.zoom.us/j/89640685349 \nAudio conference:  +1-253-215-8782 or +1-669-900-6833 or 888-475-4499 (Toll Free) or 877-853-5257 (Toll Free)Webinar ID: 896 4068 5349 \nFor attendees opting to join a breakout session at 3:30 pm\, please use the link below at that time:3:30pm Breakout Session Meeting Address https://us02web.zoom.us/j/86970280965?pwd=YjZlZEd2ZVBKSjBsZHVVTVpzM0h0dz09 								\n				\n				\n				\n									Join us for a national workshop exploring strategies for and the many benefits of repurposing legacy fossil fuel infrastructure\, including closed coal mines\, coal power plants\, and orphaned oil and gas wells. \nLeveraging and transforming legacy fossil fuel infrastructure creates the opportunity for a skilled workforce to access new sources of high-quality jobs and for states and communities to increase tax revenues. As clean energy\, manufacturing\, and other innovative companies grow\, energy communities are an attractive option for locating new and expanding operations because they often offer: \n\nA skilled workforce with knowledge of industrial operations\nEntrenched community relationships\nAccess to rail lines\, ports\, highways\, and other distribution infrastructure\nElectrical interconnect equipment and direct grid connections\nIndustrial land\, facilities\, and potentially even site and permitting licenses\n\nRegister for this half-day workshop featuring expertise on site remediation and reclamation\, worker training and upskilling of dislocated workers\, and the broad range of options for capitalizing on existing fossil fuel infrastructure. 								\n				\n				\n				\n									WORKING AGENDA   TopicSpeakersTime ET Welcome & Introductions United States Energy AssociationSheila HollisActing Executive Director U.S. Department of EnergyBhima SastriDirector\, Integrated Carbon Management Energy Communities Interagency Working GroupBrian AndersonExecutive Director White House National Economic CouncilSameera FaziliDeputy Director Noon Panel Discussion: Case Studies & Lessons Learned   ModeratorKate GordonSenior Advisor to Energy Secretary Jennifer GranholmU.S. Department of Energy PanelistsFossil to NuclearChristine KingIdaho National Laboratory Fossil to BiomassNeil PanseyCMS Enterprises Mine Lands to SolarAlan LarsonLarson Enterprises Fossil to WindmillsStephen CollinsCommercial Development Company\, Inc. Oil Wells to Gravity WellsKemp Gregory & Stephan StreckfusRenewell Energy Fossil to Data CenterJim HenryIron Mountain Fossil to Energy StorageJared TroyerDuke Energy 12:30 pm Fossil Asset Website DebutBhima SastriU.S. Department of Energy2:15 pm Break 2:20 pm Panel Discussion: Available Federal SupportModeratorBhima SastriU.S. Department of Energy PanelistsEnvironmental Protection AgencyDavid Lloyd Department of InteriorSteve Feldgus Economic Development AdministrationCourtney Haynes Department of LaborBrent Parton Energy Communities Interagency Working GroupBriggs White 2:35 pm Breakout SessionsRoom APower PlantsFacilitators: Briggs White\, Energy Communities IWG and Dwayne Coffey\, Electric Power Research Institute (EPRI) Room BMine LandsFacilitators: Zach Eldredge\, Department of Energy (DOE) and Brandon Delis\, EPRI Room CWells & Petroleum AssetsFacilitators: Tim Reinhardt\, DOE and Steven Panova\, EPRI 3:30 pm Breakout Summaries & Closing Remarks4:30 pm Event Concludes 5:00 pm 								\n				\n				\n				\n									\n					\n						\n									Register
URL:https://iwg.stratacomm.agency/event/repurposing-fossil-energy-assets/
END:VEVENT
END:VCALENDAR