BEGIN:VCALENDAR
VERSION:2.0
PRODID:-//Energy Communities - ECPv6.15.20//NONSGML v1.0//EN
CALSCALE:GREGORIAN
METHOD:PUBLISH
X-WR-CALNAME:Energy Communities
X-ORIGINAL-URL:https://iwg.stratacomm.agency
X-WR-CALDESC:Events for Energy Communities
REFRESH-INTERVAL;VALUE=DURATION:PT1H
X-Robots-Tag:noindex
X-PUBLISHED-TTL:PT1H
BEGIN:VTIMEZONE
TZID:America/New_York
BEGIN:DAYLIGHT
TZOFFSETFROM:-0500
TZOFFSETTO:-0400
TZNAME:EDT
DTSTART:20200308T070000
END:DAYLIGHT
BEGIN:STANDARD
TZOFFSETFROM:-0400
TZOFFSETTO:-0500
TZNAME:EST
DTSTART:20201101T060000
END:STANDARD
BEGIN:DAYLIGHT
TZOFFSETFROM:-0500
TZOFFSETTO:-0400
TZNAME:EDT
DTSTART:20210314T070000
END:DAYLIGHT
BEGIN:STANDARD
TZOFFSETFROM:-0400
TZOFFSETTO:-0500
TZNAME:EST
DTSTART:20211107T060000
END:STANDARD
BEGIN:DAYLIGHT
TZOFFSETFROM:-0500
TZOFFSETTO:-0400
TZNAME:EDT
DTSTART:20220313T070000
END:DAYLIGHT
BEGIN:STANDARD
TZOFFSETFROM:-0400
TZOFFSETTO:-0500
TZNAME:EST
DTSTART:20221106T060000
END:STANDARD
END:VTIMEZONE
BEGIN:VEVENT
DTSTART;TZID=America/New_York:20210812T090000
DTEND;TZID=America/New_York:20210812T120000
DTSTAMP:20260422T202637
CREATED:20210730T144955Z
LAST-MODIFIED:20210812T173112Z
UID:1121-1628758800-1628769600@iwg.stratacomm.agency
SUMMARY:Revitalizing Western PA’s Energy Communities
DESCRIPTION:Registration for this event has closed. \n\n*Limited individual virtual meetings with agency representatives will be available from 1:00 – 4:00 PM EDT   \nAttend a virtual workshop to meet directly with federal agencies and local practitioners to learn about available resources and discuss potential projects for regional economic revitalization. This session is tailored specifically to Western Pennsylvania with a focus on the $300 million in federal funding recently announced as part of the U.S. Economic Development Administration’s (EDA) Coal Communities Commitment. Attend to learn how to apply and take advantage of the largest funding for coal communities in the history of the EDA and for more information on other federal funding opportunities. \nWORKING AGENDA \n\n\n\nTOPIC\nSPEAKERS\nTIME\n\n\nWelcome & Introductions\nBriggs White\nDeputy Executive Director\nEnergy Communities Interagency Working Group\n9:00 am\n\n\nOpening Remarks & Overview\nGayle Manchin\nFederal Co-Chair\nAppalachian Regional Commission (ARC)\n\nSheri Collins\nGovernor Tom Wolf’s State Alternate to the ARC\nPenn. Dept. of Community & Economic Development\n\nBrian Anderson\nExecutive Director\nEnergy Communities Interagency Working Group\n9:05 am\n\n\nEDA Coal Communities Commitment\nChristopher Casper\nEconomic Development Specialist\, Pennsylvania\nEconomic Development Administration\n9:30 am\n\n\nBreak\n\n10:15 am\n\n\nOther Relevant Federal Programs\nA panel of senior officials representing the following federal agencies: \n\nAppalachian Regional Commission\nDepartment of Energy\nDepartment of Interior\nEnvironmental Protection Agency\nU.S. Department of Agriculture\n\n\n10:30 am\n\n\nQ&A\n\n11:30 am\n\n\nClosing Remarks\n\n11:50 am\n\n\nEvent Concludes\n\nNoon\n\n\n\n*Attendees will also have the opportunity to sign up for a limited number of individual virtual meetings with federal agency representatives from 1:00 – 4:00 PM EDT.
URL:https://iwg.stratacomm.agency/event/revitalizing-western-pas-energy-communities/
END:VEVENT
END:VCALENDAR