BEGIN:VCALENDAR
VERSION:2.0
PRODID:-//Energy Communities - ECPv6.15.20//NONSGML v1.0//EN
CALSCALE:GREGORIAN
METHOD:PUBLISH
X-WR-CALNAME:Energy Communities
X-ORIGINAL-URL:https://iwg.stratacomm.agency
X-WR-CALDESC:Events for Energy Communities
REFRESH-INTERVAL;VALUE=DURATION:PT1H
X-Robots-Tag:noindex
X-PUBLISHED-TTL:PT1H
BEGIN:VTIMEZONE
TZID:America/New_York
BEGIN:DAYLIGHT
TZOFFSETFROM:-0500
TZOFFSETTO:-0400
TZNAME:EDT
DTSTART:20230312T070000
END:DAYLIGHT
BEGIN:STANDARD
TZOFFSETFROM:-0400
TZOFFSETTO:-0500
TZNAME:EST
DTSTART:20231105T060000
END:STANDARD
BEGIN:DAYLIGHT
TZOFFSETFROM:-0500
TZOFFSETTO:-0400
TZNAME:EDT
DTSTART:20240310T070000
END:DAYLIGHT
BEGIN:STANDARD
TZOFFSETFROM:-0400
TZOFFSETTO:-0500
TZNAME:EST
DTSTART:20241103T060000
END:STANDARD
BEGIN:DAYLIGHT
TZOFFSETFROM:-0500
TZOFFSETTO:-0400
TZNAME:EDT
DTSTART:20250309T070000
END:DAYLIGHT
BEGIN:STANDARD
TZOFFSETFROM:-0400
TZOFFSETTO:-0500
TZNAME:EST
DTSTART:20251102T060000
END:STANDARD
END:VTIMEZONE
BEGIN:VEVENT
DTSTART;VALUE=DATE:20241022
DTEND;VALUE=DATE:20241024
DTSTAMP:20260423T051406
CREATED:20240527T160219Z
LAST-MODIFIED:20240725T200318Z
UID:5255-1729555200-1729727999@iwg.stratacomm.agency
SUMMARY:Southern Illinois IWG Funding Panel
DESCRIPTION:Additional details to follow.
URL:https://iwg.stratacomm.agency/event/southern-illinois-iwg-funding-panel-2/
LOCATION:University of Illinois Extension Center\, 1715 College Avenue\, Carmi\, IL\, 62821\, United States
END:VEVENT
END:VCALENDAR