BEGIN:VCALENDAR
VERSION:2.0
PRODID:-//Energy Communities - ECPv6.15.20//NONSGML v1.0//EN
CALSCALE:GREGORIAN
METHOD:PUBLISH
X-WR-CALNAME:Energy Communities
X-ORIGINAL-URL:https://iwg.stratacomm.agency
X-WR-CALDESC:Events for Energy Communities
REFRESH-INTERVAL;VALUE=DURATION:PT1H
X-Robots-Tag:noindex
X-PUBLISHED-TTL:PT1H
BEGIN:VTIMEZONE
TZID:America/Denver
BEGIN:DAYLIGHT
TZOFFSETFROM:-0700
TZOFFSETTO:-0600
TZNAME:MDT
DTSTART:20200308T090000
END:DAYLIGHT
BEGIN:STANDARD
TZOFFSETFROM:-0600
TZOFFSETTO:-0700
TZNAME:MST
DTSTART:20201101T080000
END:STANDARD
BEGIN:DAYLIGHT
TZOFFSETFROM:-0700
TZOFFSETTO:-0600
TZNAME:MDT
DTSTART:20210314T090000
END:DAYLIGHT
BEGIN:STANDARD
TZOFFSETFROM:-0600
TZOFFSETTO:-0700
TZNAME:MST
DTSTART:20211107T080000
END:STANDARD
BEGIN:DAYLIGHT
TZOFFSETFROM:-0700
TZOFFSETTO:-0600
TZNAME:MDT
DTSTART:20220313T090000
END:DAYLIGHT
BEGIN:STANDARD
TZOFFSETFROM:-0600
TZOFFSETTO:-0700
TZNAME:MST
DTSTART:20221106T080000
END:STANDARD
END:VTIMEZONE
BEGIN:VEVENT
DTSTART;TZID=America/Denver:20211217T090000
DTEND;TZID=America/Denver:20211217T120000
DTSTAMP:20260422T185544
CREATED:20211123T161331Z
LAST-MODIFIED:20211208T192941Z
UID:1410-1639731600-1639742400@iwg.stratacomm.agency
SUMMARY:Supporting Wyoming’s Energy Communities
DESCRIPTION:Attend a virtual workshop to share perspectives and meet with federal departments and state officials to learn about available resources and discuss potential pathways for regional economic diversification. This forum brings together stakeholders to hear about current energy transition conditions in Wyoming and opportunities for broader collaboration on specific projects in the future.  This workshop will begin with information exchange on the energy transition landscape in Wyoming as described by local leaders. Speakers will also focus on workforce development efforts underway and local community conditions. Federal representatives will also be able to highlight funding currently available for energy communities in both large group setting as well as smaller breakout sessions. This workshop is designed to help participants: Advance needed economic development projectsStrengthen relationships around the stateConnect energy workers and their communities with available federal resources								\n				\n				\n				\n									\n					\n						\n									Register\n					\n					\n				\n								\n				\n				\n				\n									WORKING AGENDA Topic Speakers Time MT Welcome & Introductions  Briggs WhiteDeputy Executive DirectorEnergy Communities Interagency Working Group Randall LuthiChief Energy AdvisorOffice of Wyoming Governor Mark Gordon 9:00 am Opening Remarks   Brian AndersonExecutive DirectorEnergy Communities Interagency Working Group Mark GordonGovernor of Wyoming 9:10 am Wyoming State Panel A panel of Wyoming-focused voices and organizations discussing state-specific issues\, lessons learned and best practices. University of Wyoming\, School of Energy Resources Wyoming Energy Authority Western Wyoming Community College Utility Workers Union of America Campbell County Converse County Lincoln County Sweetwater County 9:25 am Q & A 10:25 am Federal Funding Opportunities for Energy Communities A panel of senior officials representing the following federal agencies: U.S. Department of Energy U.S. Economic Development Administration U.S. Environmental Protection Agency U.S. Department of Agriculture U.S. Department of Interior U.S. Department of Labor 10:45 am Q & A  11:35 am Closing Remarks 11:55 am Event Concludes  Noon OPTIONAL AFTERNOON BREAKOUT SESSIONS Following a lunch break\, participants will have the opportunity to join moderated\, smaller-group discussions on issues that elected officials and local stakeholders have identified as particularly relevant and resonant for Wyoming. Once you have registered for the morning session\, please continue to monitor you email for further information on how to attend these virtual breakout sessions. Session Topic Time MT Breakout Session – room #1 Topic: Keeping Workers in Wyoming 1:00 pm Breakout Session – room #2 Topic: New Economic Opportunities with Carbon 1:00 pm Event Concludes  2:00 pm 								\n				\n				\n				\n									REGISTER:
URL:https://iwg.stratacomm.agency/event/supporting-wyomings-energy-communities/
END:VEVENT
END:VCALENDAR