BEGIN:VCALENDAR
VERSION:2.0
PRODID:-//Energy Communities - ECPv6.15.20//NONSGML v1.0//EN
CALSCALE:GREGORIAN
METHOD:PUBLISH
X-WR-CALNAME:Energy Communities
X-ORIGINAL-URL:https://iwg.stratacomm.agency
X-WR-CALDESC:Events for Energy Communities
REFRESH-INTERVAL;VALUE=DURATION:PT1H
X-Robots-Tag:noindex
X-PUBLISHED-TTL:PT1H
BEGIN:VTIMEZONE
TZID:America/New_York
BEGIN:DAYLIGHT
TZOFFSETFROM:-0500
TZOFFSETTO:-0400
TZNAME:EDT
DTSTART:20210314T070000
END:DAYLIGHT
BEGIN:STANDARD
TZOFFSETFROM:-0400
TZOFFSETTO:-0500
TZNAME:EST
DTSTART:20211107T060000
END:STANDARD
BEGIN:DAYLIGHT
TZOFFSETFROM:-0500
TZOFFSETTO:-0400
TZNAME:EDT
DTSTART:20220313T070000
END:DAYLIGHT
BEGIN:STANDARD
TZOFFSETFROM:-0400
TZOFFSETTO:-0500
TZNAME:EST
DTSTART:20221106T060000
END:STANDARD
BEGIN:DAYLIGHT
TZOFFSETFROM:-0500
TZOFFSETTO:-0400
TZNAME:EDT
DTSTART:20230312T070000
END:DAYLIGHT
BEGIN:STANDARD
TZOFFSETFROM:-0400
TZOFFSETTO:-0500
TZNAME:EST
DTSTART:20231105T060000
END:STANDARD
END:VTIMEZONE
BEGIN:VEVENT
DTSTART;TZID=America/New_York:20220630T150000
DTEND;TZID=America/New_York:20220630T160000
DTSTAMP:20260422T161131
CREATED:20220603T153443Z
LAST-MODIFIED:20220628T162507Z
UID:2044-1656601200-1656604800@iwg.stratacomm.agency
SUMMARY:U.S. Environmental Protection Agency’s Bipartisan Infrastructure Law Funding for Energy Communities
DESCRIPTION:Through the Interagency Working Group on Coal and Power Plant Communities and Economic Revitalization\, federal government agencies are working to coordinate our approach to supporting energy community transitions. The U.S. Environmental Protection Agency (EPA) is part of this work group that is already engaging with its partners on the economic and environmental revitalization of communities that have historically been economically reliant on fossil fuels. In this webinar\, EPA will highlight Bipartisan Infrastructure Law (BIL) funding particularly relevant to energy communities. Specifically\, how energy communities can get access to these infrastructure dollars and how they can get technical assistance to make sure these new funds can connect to local projects in their communities. This federal funding can accelerate support to local communities and ensure that all Americans can have access to a clean energy future. This webinar will highlight the two largest sources of infrastructure funds most relevant to energy communities: The single largest investment in water that the federal government has ever made: $50 billion to EPA to improve our nation’s drinking water\, wastewater\, and stormwater infrastructure.$5.4 billion for cleaning up legacy pollution at Superfund and brownfields sites and helping to restore the economic vitality of communities.								\n				\n				\n				\n									\n					\n						\n									Register\n					\n					\n				\n								\n				\n				\n				\n									WORKING AGENDA Topic Speakers & Topics Time EST Welcome & Overview Brian AndersonExecutive DirectorEnergy Communities Interagency Working Group 3:00 pm Spotlight on EPA Funding Opportunities\, Case Studies\, and Technical Assistance Panel discussion featuring EPA officials\, including: Vicki Arroyo\, Associate Administrator\, Office of Policy Carlton Waterhouse\, Deputy Assistant Administrator\, Office of Land and Emergency Management Jonathan Nelson\, Senior Adviser for Technical Assistance and Community Outreach\, Office of Water 3:05 pm Q&A 3:45 pm Closing Remarks Briggs WhiteDeputy Executive DirectorEnergy Communities Interagency Working Group 3:55 pm Event Concludes  4:00 pm 								\n				\n				\n				\n									\n					\n						\n									Register
URL:https://iwg.stratacomm.agency/event/u-s-environmental-protection-agencys-bipartisan-infrastructure-law-funding-for-energy-communities/
END:VEVENT
END:VCALENDAR