BEGIN:VCALENDAR
VERSION:2.0
PRODID:-//Energy Communities - ECPv6.15.20//NONSGML v1.0//EN
CALSCALE:GREGORIAN
METHOD:PUBLISH
X-WR-CALNAME:Energy Communities
X-ORIGINAL-URL:https://iwg.stratacomm.agency
X-WR-CALDESC:Events for Energy Communities
REFRESH-INTERVAL;VALUE=DURATION:PT1H
X-Robots-Tag:noindex
X-PUBLISHED-TTL:PT1H
BEGIN:VTIMEZONE
TZID:America/New_York
BEGIN:DAYLIGHT
TZOFFSETFROM:-0500
TZOFFSETTO:-0400
TZNAME:EDT
DTSTART:20210314T070000
END:DAYLIGHT
BEGIN:STANDARD
TZOFFSETFROM:-0400
TZOFFSETTO:-0500
TZNAME:EST
DTSTART:20211107T060000
END:STANDARD
BEGIN:DAYLIGHT
TZOFFSETFROM:-0500
TZOFFSETTO:-0400
TZNAME:EDT
DTSTART:20220313T070000
END:DAYLIGHT
BEGIN:STANDARD
TZOFFSETFROM:-0400
TZOFFSETTO:-0500
TZNAME:EST
DTSTART:20221106T060000
END:STANDARD
BEGIN:DAYLIGHT
TZOFFSETFROM:-0500
TZOFFSETTO:-0400
TZNAME:EDT
DTSTART:20230312T070000
END:DAYLIGHT
BEGIN:STANDARD
TZOFFSETFROM:-0400
TZOFFSETTO:-0500
TZNAME:EST
DTSTART:20231105T060000
END:STANDARD
END:VTIMEZONE
BEGIN:VEVENT
DTSTART;TZID=America/New_York:20220407T130000
DTEND;TZID=America/New_York:20220407T170000
DTSTAMP:20260422T172924
CREATED:20220325T135534Z
LAST-MODIFIED:20220325T135819Z
UID:1891-1649336400-1649350800@iwg.stratacomm.agency
SUMMARY:Virtual Kickoff to Regional Carbon Management Applicant Education Workshops (DOE-FECM & USEA)
DESCRIPTION:Join USEA on April 7th\, as they partner with the U.S. Department of Energy’s Office of Fossil Energy and Carbon Management (DOE-FECM) for a Virtual Kickoff of its Regional Carbon Management Applicant Education Workshops. These workshops support implementation of the Bipartisan Infrastructure Law (BIL) and will target potential applicants interested in developing commercial-scale storage facilities\, point-source CO2 capture demonstration projects\, direct air capture hubs\, hydrogen production hubs with carbon capture and storage (CCS)\, carbon utilization\, and CO2 transport that will be required by these BIL provisions and support decarbonization. \nDOE will address various components of large-scale projects such as capture of CO2 from point sources and the atmosphere; commercial storage and transport of carbon dioxide; developing teams for integrated projects; DOE procurement requirements and processes; NEPA requirements and processes; lessons learned from past demonstration projects; alternate opportunities for carbon management; environmental justice and community engagement requirements; energy jobs; partnering with Tribal Nations; regulatory requirements; and land and pore space access opportunities. \nThis virtual event will then be followed by a three week series of in-person\, day-long workshops bringing together stakeholders of large-scale Carbon Management-related infrastructure projects. In-person events will be held in Columbus\, OH on April 13th ; New Orleans\, LA on April 19th; and Salt Lake City\, UT on April 26th. Speakers and Agenda to follow. 								\n				\n				\n				\n									\n					\n						\n									Register
URL:https://iwg.stratacomm.agency/event/virtual-kickoff-to-regional-carbon-management-applicant-education-workshops/
END:VEVENT
END:VCALENDAR