BEGIN:VCALENDAR
VERSION:2.0
PRODID:-//Energy Communities - ECPv6.15.20//NONSGML v1.0//EN
CALSCALE:GREGORIAN
METHOD:PUBLISH
X-WR-CALNAME:Energy Communities
X-ORIGINAL-URL:https://iwg.stratacomm.agency
X-WR-CALDESC:Events for Energy Communities
REFRESH-INTERVAL;VALUE=DURATION:PT1H
X-Robots-Tag:noindex
X-PUBLISHED-TTL:PT1H
BEGIN:VTIMEZONE
TZID:America/New_York
BEGIN:DAYLIGHT
TZOFFSETFROM:-0500
TZOFFSETTO:-0400
TZNAME:EDT
DTSTART:20220313T070000
END:DAYLIGHT
BEGIN:STANDARD
TZOFFSETFROM:-0400
TZOFFSETTO:-0500
TZNAME:EST
DTSTART:20221106T060000
END:STANDARD
BEGIN:DAYLIGHT
TZOFFSETFROM:-0500
TZOFFSETTO:-0400
TZNAME:EDT
DTSTART:20230312T070000
END:DAYLIGHT
BEGIN:STANDARD
TZOFFSETFROM:-0400
TZOFFSETTO:-0500
TZNAME:EST
DTSTART:20231105T060000
END:STANDARD
BEGIN:DAYLIGHT
TZOFFSETFROM:-0500
TZOFFSETTO:-0400
TZNAME:EDT
DTSTART:20240310T070000
END:DAYLIGHT
BEGIN:STANDARD
TZOFFSETFROM:-0400
TZOFFSETTO:-0500
TZNAME:EST
DTSTART:20241103T060000
END:STANDARD
END:VTIMEZONE
BEGIN:VEVENT
DTSTART;TZID=America/New_York:20230320T140000
DTEND;TZID=America/New_York:20230320T150000
DTSTAMP:20260422T113015
CREATED:20230307T183743Z
LAST-MODIFIED:20230309T173357Z
UID:3473-1679320800-1679324400@iwg.stratacomm.agency
SUMMARY:What the Inflation Reduction Act Means for Energy Communities Webinar Series – Part One
DESCRIPTION:The historic investments in the Inflation Reduction Act (IRA) present a multitude of opportunities to revitalize energy communities\, diversify workforces and support energy workers across the country. As more investments become available\, it’s crucial for energy communities to understand for which programs they are eligible and the benefits of those programs. The Interagency Working Group on Coal and Power Plant Communities and Economic Revitalization (Energy Communities IWG) is hosting a two-part webinar series highlighting IRA programs that benefit energy communities. The series will provide energy communities with the information they need to better understand how they can benefit from specific programs within the IRA. Key programs discussed in the first webinar include: U.S. Department of Energy Loan Program Office’s Energy Infrastructure Reinvestment program that can be used to repurpose shuttered fossil energy assets.Programs through the U.S. Department of Agriculture investing in rural America to support the clean energy transformation for a variety of energy community stakeholders.								\n				\n				\n				\n									\n					\n						\n									REGISTER\n					\n					\n				\n								\n				\n				\n				\n									AgendaTopic Speakers & Topics Time EST Welcome & Overview  Brian Anderson\, Ph.D. Executive DirectorEnergy Communities IWG 2:00 p.m. Keynote Remarks  Kristina CostaDeputy Assistant to the President for Clean Energy Innovation and Implementation 2:05 p.m. IRA Energy Programs at Rural Development Clare SierawskiSenior Energy CounselorU.S. Department of Agriculture Rural Development John McAuliffSenior AdvisorU.S. Department of Agriculture Rural Development 2:15 p.m. Energy Infrastructure Reinvestment (EIR) Program Jigar ShahDirectorU.S. Department of Energy Loan Program Office 2:30 p.m. Q&A 2:45 p.m. Closing Remarks Brian Anderson\, Ph.D. Executive DirectorEnergy Communities IWG 2:55 p.m. Event Concludes  3:00 p.m.
URL:https://iwg.stratacomm.agency/event/what-the-inflation-reduction-act-means-for-energy-communities-webinar-series-part-one/
END:VEVENT
END:VCALENDAR