BEGIN:VCALENDAR
VERSION:2.0
PRODID:-//Energy Communities - ECPv6.15.20//NONSGML v1.0//EN
CALSCALE:GREGORIAN
METHOD:PUBLISH
X-ORIGINAL-URL:https://iwg.stratacomm.agency
X-WR-CALDESC:Events for Energy Communities
REFRESH-INTERVAL;VALUE=DURATION:PT1H
X-Robots-Tag:noindex
X-PUBLISHED-TTL:PT1H
BEGIN:VTIMEZONE
TZID:America/Chicago
BEGIN:DAYLIGHT
TZOFFSETFROM:-0600
TZOFFSETTO:-0500
TZNAME:CDT
DTSTART:20220313T080000
END:DAYLIGHT
BEGIN:STANDARD
TZOFFSETFROM:-0500
TZOFFSETTO:-0600
TZNAME:CST
DTSTART:20221106T070000
END:STANDARD
BEGIN:DAYLIGHT
TZOFFSETFROM:-0600
TZOFFSETTO:-0500
TZNAME:CDT
DTSTART:20230312T080000
END:DAYLIGHT
BEGIN:STANDARD
TZOFFSETFROM:-0500
TZOFFSETTO:-0600
TZNAME:CST
DTSTART:20231105T070000
END:STANDARD
BEGIN:DAYLIGHT
TZOFFSETFROM:-0600
TZOFFSETTO:-0500
TZNAME:CDT
DTSTART:20240310T080000
END:DAYLIGHT
BEGIN:STANDARD
TZOFFSETFROM:-0500
TZOFFSETTO:-0600
TZNAME:CST
DTSTART:20241103T070000
END:STANDARD
END:VTIMEZONE
BEGIN:VTIMEZONE
TZID:America/New_York
BEGIN:DAYLIGHT
TZOFFSETFROM:-0500
TZOFFSETTO:-0400
TZNAME:EDT
DTSTART:20210314T070000
END:DAYLIGHT
BEGIN:STANDARD
TZOFFSETFROM:-0400
TZOFFSETTO:-0500
TZNAME:EST
DTSTART:20211107T060000
END:STANDARD
BEGIN:DAYLIGHT
TZOFFSETFROM:-0500
TZOFFSETTO:-0400
TZNAME:EDT
DTSTART:20220313T070000
END:DAYLIGHT
BEGIN:STANDARD
TZOFFSETFROM:-0400
TZOFFSETTO:-0500
TZNAME:EST
DTSTART:20221106T060000
END:STANDARD
BEGIN:DAYLIGHT
TZOFFSETFROM:-0500
TZOFFSETTO:-0400
TZNAME:EDT
DTSTART:20230312T070000
END:DAYLIGHT
BEGIN:STANDARD
TZOFFSETFROM:-0400
TZOFFSETTO:-0500
TZNAME:EST
DTSTART:20231105T060000
END:STANDARD
BEGIN:DAYLIGHT
TZOFFSETFROM:-0500
TZOFFSETTO:-0400
TZNAME:EDT
DTSTART:20240310T070000
END:DAYLIGHT
BEGIN:STANDARD
TZOFFSETFROM:-0400
TZOFFSETTO:-0500
TZNAME:EST
DTSTART:20241103T060000
END:STANDARD
END:VTIMEZONE
BEGIN:VEVENT
DTSTART;TZID=America/Chicago:20230525T133000
DTEND;TZID=America/Chicago:20230525T153000
DTSTAMP:20260422T080948
CREATED:20230424T184404Z
LAST-MODIFIED:20230515T170321Z
UID:3894-1685021400-1685028600@iwg.stratacomm.agency
SUMMARY:Brownfield Grant-Writing Training Webinar Series: It's Never Too Early to Start! - Webinar #6
DESCRIPTION:USDA’s Rural Utilities Service staff will provide a detailed overview on the requirements for submitting a Letter of Interest (LOI) for New ERA. In addition to LOI requirements\, instructions for completing the Greenhouse Gas reduction worksheet will be included. Attendees will have the opportunity to ask questions about the funding requirements and process. 								\n				\n					\n				\n		\n					\n				\n				\n									\n					\n						\n									REGISTER
URL:https://iwg.stratacomm.agency/event/brownfield-grant-writing-training-webinar-series-its-never-too-early-to-start-webinar-6/
LOCATION:Webinar
END:VEVENT
BEGIN:VEVENT
DTSTART;TZID=America/New_York:20230524T143000
DTEND;TZID=America/New_York:20230524T153000
DTSTAMP:20260422T080948
CREATED:20230516T163447Z
LAST-MODIFIED:20230516T175108Z
UID:4114-1684938600-1684942200@iwg.stratacomm.agency
SUMMARY:USDA Overview of Funding Available Through IRA Webinar #2
DESCRIPTION:USDA’s Rural Utilities Service staff will provide a detailed overview on the requirements for submitting a Letter of Interest (LOI) for New ERA. In addition to LOI requirements\, instructions for completing the Greenhouse Gas reduction worksheet will be included. Attendees will have the opportunity to ask questions about the funding requirements and process. 								\n				\n					\n				\n		\n					\n				\n				\n									\n					\n						\n									REGISTER
URL:https://iwg.stratacomm.agency/event/overview-of-funding-available-through-ira-webinar-2/
END:VEVENT
BEGIN:VEVENT
DTSTART;TZID=America/New_York:20230523T080000
DTEND;TZID=America/New_York:20230524T120000
DTSTAMP:20260422T080948
CREATED:20230503T145710Z
LAST-MODIFIED:20230522T192002Z
UID:3965-1684828800-1684929600@iwg.stratacomm.agency
SUMMARY:Rural Partners Network Resource Partners Forum
DESCRIPTION:USDA’s Rural Utilities Service staff will provide a detailed overview on the requirements for submitting a Letter of Interest (LOI) for New ERA. In addition to LOI requirements\, instructions for completing the Greenhouse Gas reduction worksheet will be included. Attendees will have the opportunity to ask questions about the funding requirements and process. 								\n				\n					\n				\n		\n					\n				\n				\n									\n					\n						\n									REGISTER
URL:https://iwg.stratacomm.agency/event/rural-partners-network-resource-partners-forum/
LOCATION:Clay Center\, 1 Clay Square\, Charleston\, WV\, 25301\, United States
END:VEVENT
BEGIN:VEVENT
DTSTART;TZID=America/New_York:20230522T160000
DTEND;TZID=America/New_York:20230522T170000
DTSTAMP:20260422T080948
CREATED:20230510T132441Z
LAST-MODIFIED:20230515T170259Z
UID:4062-1684771200-1684774800@iwg.stratacomm.agency
SUMMARY:Webinar on Identifying Discretionary Grant Opportunities (USDOT)
DESCRIPTION:USDA’s Rural Utilities Service staff will provide a detailed overview on the requirements for submitting a Letter of Interest (LOI) for New ERA. In addition to LOI requirements\, instructions for completing the Greenhouse Gas reduction worksheet will be included. Attendees will have the opportunity to ask questions about the funding requirements and process. 								\n				\n					\n				\n		\n					\n				\n				\n									\n					\n						\n									REGISTER
URL:https://iwg.stratacomm.agency/event/webinar-on-identifying-discretionary-grant-opportunities-usdot/
LOCATION:Webinar
END:VEVENT
BEGIN:VEVENT
DTSTART;TZID=America/New_York:20230522T143000
DTEND;TZID=America/New_York:20230522T153000
DTSTAMP:20260422T080948
CREATED:20230516T163229Z
LAST-MODIFIED:20230516T175053Z
UID:4113-1684765800-1684769400@iwg.stratacomm.agency
SUMMARY:USDA Overview of Funding Available Through IRA Webinar #1
DESCRIPTION:USDA’s Rural Utilities Service staff will provide a detailed overview on the requirements for submitting a Letter of Interest (LOI) for New ERA. In addition to LOI requirements\, instructions for completing the Greenhouse Gas reduction worksheet will be included. Attendees will have the opportunity to ask questions about the funding requirements and process. 								\n				\n					\n				\n		\n					\n				\n				\n									\n					\n						\n									REGISTER
URL:https://iwg.stratacomm.agency/event/overview-of-funding-available-through-ira-webinar-1/
LOCATION:Webinar
END:VEVENT
BEGIN:VEVENT
DTSTART;TZID=America/New_York:20230518T133000
DTEND;TZID=America/New_York:20230518T153000
DTSTAMP:20260422T080948
CREATED:20230424T184039Z
LAST-MODIFIED:20230515T170243Z
UID:3893-1684416600-1684423800@iwg.stratacomm.agency
SUMMARY:Brownfield Grant-Writing Training Webinar Series: It's Never Too Early to Start! - Webinar #5
DESCRIPTION:USDA’s Rural Utilities Service staff will provide a detailed overview on the requirements for submitting a Letter of Interest (LOI) for New ERA. In addition to LOI requirements\, instructions for completing the Greenhouse Gas reduction worksheet will be included. Attendees will have the opportunity to ask questions about the funding requirements and process. 								\n				\n					\n				\n		\n					\n				\n				\n									\n					\n						\n									REGISTER
URL:https://iwg.stratacomm.agency/event/brownfield-grant-writing-training-webinar-series-its-never-too-early-to-start-webinar-5/
LOCATION:Webinar
END:VEVENT
BEGIN:VEVENT
DTSTART;TZID=America/New_York:20230517T143000
DTEND;TZID=America/New_York:20230517T153000
DTSTAMP:20260422T080948
CREATED:20230516T165417Z
LAST-MODIFIED:20230516T181609Z
UID:4117-1684333800-1684337400@iwg.stratacomm.agency
SUMMARY:USDA Rural Utilities Service Update on IRA
DESCRIPTION:USDA’s Rural Utilities Service staff will provide a detailed overview on the requirements for submitting a Letter of Interest (LOI) for New ERA. In addition to LOI requirements\, instructions for completing the Greenhouse Gas reduction worksheet will be included. Attendees will have the opportunity to ask questions about the funding requirements and process. 								\n				\n					\n				\n		\n					\n				\n				\n									\n					\n						\n									REGISTER
URL:https://iwg.stratacomm.agency/event/rus-update-on-ira/
LOCATION:Webinar
END:VEVENT
BEGIN:VEVENT
DTSTART;TZID=America/New_York:20230511T140000
DTEND;TZID=America/New_York:20230511T150000
DTSTAMP:20260422T080948
CREATED:20230509T210300Z
LAST-MODIFIED:20230509T211252Z
UID:4046-1683813600-1683817200@iwg.stratacomm.agency
SUMMARY:Rural Workforce Innovation Network Workshop on Energy Workforce Programs (USDA)
DESCRIPTION:USDA’s Rural Utilities Service staff will provide a detailed overview on the requirements for submitting a Letter of Interest (LOI) for New ERA. In addition to LOI requirements\, instructions for completing the Greenhouse Gas reduction worksheet will be included. Attendees will have the opportunity to ask questions about the funding requirements and process. 								\n				\n					\n				\n		\n					\n				\n				\n									\n					\n						\n									REGISTER
URL:https://iwg.stratacomm.agency/event/rural-workforce-innovation-network-workshop-on-energy-workforce-programs-usda/
END:VEVENT
BEGIN:VEVENT
DTSTART;TZID=America/Chicago:20230511T133000
DTEND;TZID=America/Chicago:20230511T153000
DTSTAMP:20260422T080948
CREATED:20230424T183714Z
LAST-MODIFIED:20230424T183915Z
UID:3892-1683811800-1683819000@iwg.stratacomm.agency
SUMMARY:Brownfield Grant-Writing Training Webinar Series: It's Never Too Early to Start! - Webinar #4
DESCRIPTION:USDA’s Rural Utilities Service staff will provide a detailed overview on the requirements for submitting a Letter of Interest (LOI) for New ERA. In addition to LOI requirements\, instructions for completing the Greenhouse Gas reduction worksheet will be included. Attendees will have the opportunity to ask questions about the funding requirements and process. 								\n				\n					\n				\n		\n					\n				\n				\n									\n					\n						\n									REGISTER
URL:https://iwg.stratacomm.agency/event/brownfield-grant-writing-training-webinar-series-its-never-too-early-to-start-webinar-4/
END:VEVENT
BEGIN:VEVENT
DTSTART;TZID=America/New_York:20230511T083000
DTEND;TZID=America/New_York:20230511T170000
DTSTAMP:20260422T080948
CREATED:20230406T141434Z
LAST-MODIFIED:20230406T141525Z
UID:3834-1683793800-1683824400@iwg.stratacomm.agency
SUMMARY:Kentucky Highlands Rural Partners Network Community Forum
DESCRIPTION:USDA’s Rural Utilities Service staff will provide a detailed overview on the requirements for submitting a Letter of Interest (LOI) for New ERA. In addition to LOI requirements\, instructions for completing the Greenhouse Gas reduction worksheet will be included. Attendees will have the opportunity to ask questions about the funding requirements and process. 								\n				\n					\n				\n		\n					\n				\n				\n									\n					\n						\n									REGISTER
URL:https://iwg.stratacomm.agency/event/kentucky-highlands-rural-partners-network-community-forum/
END:VEVENT
BEGIN:VEVENT
DTSTART;TZID=America/New_York:20230509T130000
DTEND;TZID=America/New_York:20230509T140000
DTSTAMP:20260422T080948
CREATED:20230503T144629Z
LAST-MODIFIED:20230503T145935Z
UID:3962-1683637200-1683640800@iwg.stratacomm.agency
SUMMARY:CEML Technical Assistance Program and Clean Energy Siting Considerations for Mine Land
DESCRIPTION:USDA’s Rural Utilities Service staff will provide a detailed overview on the requirements for submitting a Letter of Interest (LOI) for New ERA. In addition to LOI requirements\, instructions for completing the Greenhouse Gas reduction worksheet will be included. Attendees will have the opportunity to ask questions about the funding requirements and process. 								\n				\n					\n				\n		\n					\n				\n				\n									\n					\n						\n									REGISTER
URL:https://iwg.stratacomm.agency/event/ceml-technical-assistance-program-and-clean-energy-siting-considerations-for-mine-land/
LOCATION:Webinar
END:VEVENT
BEGIN:VEVENT
DTSTART;TZID=America/Chicago:20230504T133000
DTEND;TZID=America/Chicago:20230504T153000
DTSTAMP:20260422T080948
CREATED:20230424T183444Z
LAST-MODIFIED:20230424T183535Z
UID:3891-1683207000-1683214200@iwg.stratacomm.agency
SUMMARY:Brownfield Grant-Writing Training Webinar Series: It's Never Too Early to Start! - Webinar #3
DESCRIPTION:USDA’s Rural Utilities Service staff will provide a detailed overview on the requirements for submitting a Letter of Interest (LOI) for New ERA. In addition to LOI requirements\, instructions for completing the Greenhouse Gas reduction worksheet will be included. Attendees will have the opportunity to ask questions about the funding requirements and process. 								\n				\n					\n				\n		\n					\n				\n				\n									\n					\n						\n									REGISTER
URL:https://iwg.stratacomm.agency/event/brownfield-grant-writing-training-webinar-series-its-never-too-early-to-start-webinar-3/
END:VEVENT
BEGIN:VEVENT
DTSTART;TZID=America/New_York:20230428T140000
DTEND;TZID=America/New_York:20230428T150000
DTSTAMP:20260422T080948
CREATED:20230404T100047Z
LAST-MODIFIED:20230424T184847Z
UID:3766-1682690400-1682694000@iwg.stratacomm.agency
SUMMARY:What the Inflation Reduction Act Means for Energy Communities Webinar Series – Part Two
DESCRIPTION:USDA’s Rural Utilities Service staff will provide a detailed overview on the requirements for submitting a Letter of Interest (LOI) for New ERA. In addition to LOI requirements\, instructions for completing the Greenhouse Gas reduction worksheet will be included. Attendees will have the opportunity to ask questions about the funding requirements and process. 								\n				\n					\n				\n		\n					\n				\n				\n									\n					\n						\n									REGISTER
URL:https://iwg.stratacomm.agency/event/what-the-inflation-reduction-act-means-for-energy-communities-webinar-series-part-two/
END:VEVENT
BEGIN:VEVENT
DTSTART;TZID=America/Chicago:20230427T133000
DTEND;TZID=America/Chicago:20230427T153000
DTSTAMP:20260422T080948
CREATED:20230424T183200Z
LAST-MODIFIED:20230424T183245Z
UID:3890-1682602200-1682609400@iwg.stratacomm.agency
SUMMARY:Brownfield Grant-Writing Training Webinar Series: It's Never Too Early to Start! - Webinar #2
DESCRIPTION:USDA’s Rural Utilities Service staff will provide a detailed overview on the requirements for submitting a Letter of Interest (LOI) for New ERA. In addition to LOI requirements\, instructions for completing the Greenhouse Gas reduction worksheet will be included. Attendees will have the opportunity to ask questions about the funding requirements and process. 								\n				\n					\n				\n		\n					\n				\n				\n									\n					\n						\n									REGISTER
URL:https://iwg.stratacomm.agency/event/brownfield-grant-writing-training-webinar-series-its-never-too-early-to-start-webinar-2/
END:VEVENT
BEGIN:VEVENT
DTSTART;TZID=America/Chicago:20230420T130000
DTEND;TZID=America/Chicago:20230420T153000
DTSTAMP:20260422T080948
CREATED:20230424T182213Z
LAST-MODIFIED:20230424T183330Z
UID:3888-1681995600-1682004600@iwg.stratacomm.agency
SUMMARY:2023 Brownfields Grant-Writing Training Webinar Series: It's Never Too Early to Start! - Webinar #1
DESCRIPTION:USDA’s Rural Utilities Service staff will provide a detailed overview on the requirements for submitting a Letter of Interest (LOI) for New ERA. In addition to LOI requirements\, instructions for completing the Greenhouse Gas reduction worksheet will be included. Attendees will have the opportunity to ask questions about the funding requirements and process. 								\n				\n					\n				\n		\n					\n				\n				\n									\n					\n						\n									REGISTER
URL:https://iwg.stratacomm.agency/event/2023-brownfields-grant-writing-training-webinar-series-its-never-too-early-to-start-webinar-1/
END:VEVENT
BEGIN:VEVENT
DTSTART;TZID=America/New_York:20230404T143000
DTEND;TZID=America/New_York:20230404T153000
DTSTAMP:20260422T080948
CREATED:20230328T132456Z
LAST-MODIFIED:20230328T132824Z
UID:3707-1680618600-1680622200@iwg.stratacomm.agency
SUMMARY:IRA REAP Training Webinar (USDA)
DESCRIPTION:USDA’s Rural Utilities Service staff will provide a detailed overview on the requirements for submitting a Letter of Interest (LOI) for New ERA. In addition to LOI requirements\, instructions for completing the Greenhouse Gas reduction worksheet will be included. Attendees will have the opportunity to ask questions about the funding requirements and process. 								\n				\n					\n				\n		\n					\n				\n				\n									\n					\n						\n									REGISTER
URL:https://iwg.stratacomm.agency/event/ira-reap-training-webinar-usda/
END:VEVENT
BEGIN:VEVENT
DTSTART;TZID=America/New_York:20230404T090000
DTEND;TZID=America/New_York:20230404T130000
DTSTAMP:20260422T080948
CREATED:20230403T133647Z
LAST-MODIFIED:20230403T200201Z
UID:3769-1680598800-1680613200@iwg.stratacomm.agency
SUMMARY:White House Energy Communities Briefing
DESCRIPTION:USDA’s Rural Utilities Service staff will provide a detailed overview on the requirements for submitting a Letter of Interest (LOI) for New ERA. In addition to LOI requirements\, instructions for completing the Greenhouse Gas reduction worksheet will be included. Attendees will have the opportunity to ask questions about the funding requirements and process. 								\n				\n					\n				\n		\n					\n				\n				\n									\n					\n						\n									REGISTER
URL:https://iwg.stratacomm.agency/event/white-house-energy-communities-briefing/
END:VEVENT
BEGIN:VEVENT
DTSTART;TZID=America/New_York:20230331T143000
DTEND;TZID=America/New_York:20230331T153000
DTSTAMP:20260422T080948
CREATED:20230328T132202Z
LAST-MODIFIED:20230328T132338Z
UID:3706-1680273000-1680276600@iwg.stratacomm.agency
SUMMARY:IRA REAP Stakeholder Call: Investing in America (USDA)
DESCRIPTION:USDA’s Rural Utilities Service staff will provide a detailed overview on the requirements for submitting a Letter of Interest (LOI) for New ERA. In addition to LOI requirements\, instructions for completing the Greenhouse Gas reduction worksheet will be included. Attendees will have the opportunity to ask questions about the funding requirements and process. 								\n				\n					\n				\n		\n					\n				\n				\n									\n					\n						\n									REGISTER
URL:https://iwg.stratacomm.agency/event/ira-reap-stakeholder-call-investing-in-america-usda/
END:VEVENT
BEGIN:VEVENT
DTSTART;TZID=America/New_York:20230320T140000
DTEND;TZID=America/New_York:20230320T150000
DTSTAMP:20260422T080948
CREATED:20230307T183743Z
LAST-MODIFIED:20230309T173357Z
UID:3473-1679320800-1679324400@iwg.stratacomm.agency
SUMMARY:What the Inflation Reduction Act Means for Energy Communities Webinar Series – Part One
DESCRIPTION:USDA’s Rural Utilities Service staff will provide a detailed overview on the requirements for submitting a Letter of Interest (LOI) for New ERA. In addition to LOI requirements\, instructions for completing the Greenhouse Gas reduction worksheet will be included. Attendees will have the opportunity to ask questions about the funding requirements and process. 								\n				\n					\n				\n		\n					\n				\n				\n									\n					\n						\n									REGISTER
URL:https://iwg.stratacomm.agency/event/what-the-inflation-reduction-act-means-for-energy-communities-webinar-series-part-one/
END:VEVENT
BEGIN:VEVENT
DTSTART;TZID=America/New_York:20230228T110000
DTEND;TZID=America/New_York:20230228T120000
DTSTAMP:20260422T080948
CREATED:20230214T135143Z
LAST-MODIFIED:20230214T141732Z
UID:3344-1677582000-1677585600@iwg.stratacomm.agency
SUMMARY:Broadband Technical Assistance Providers Listening Session (USDA)
DESCRIPTION:USDA’s Rural Utilities Service staff will provide a detailed overview on the requirements for submitting a Letter of Interest (LOI) for New ERA. In addition to LOI requirements\, instructions for completing the Greenhouse Gas reduction worksheet will be included. Attendees will have the opportunity to ask questions about the funding requirements and process. 								\n				\n					\n				\n		\n					\n				\n				\n									\n					\n						\n									REGISTER
URL:https://iwg.stratacomm.agency/event/broadband-technical-assistance-providers-listening-session-usda/
END:VEVENT
BEGIN:VEVENT
DTSTART;TZID=America/New_York:20230223T110000
DTEND;TZID=America/New_York:20230223T120000
DTSTAMP:20260422T080948
CREATED:20230214T134633Z
LAST-MODIFIED:20230214T140726Z
UID:3343-1677150000-1677153600@iwg.stratacomm.agency
SUMMARY:Broadband Technical Assistance for Rural Communities Listening Session (USDA)
DESCRIPTION:USDA’s Rural Utilities Service staff will provide a detailed overview on the requirements for submitting a Letter of Interest (LOI) for New ERA. In addition to LOI requirements\, instructions for completing the Greenhouse Gas reduction worksheet will be included. Attendees will have the opportunity to ask questions about the funding requirements and process. 								\n				\n					\n				\n		\n					\n				\n				\n									\n					\n						\n									REGISTER
URL:https://iwg.stratacomm.agency/event/broadband-technical-assistance-for-rural-communities-listening-session-usda/
END:VEVENT
BEGIN:VEVENT
DTSTART;TZID=America/New_York:20230222T110000
DTEND;TZID=America/New_York:20230222T120000
DTSTAMP:20260422T080948
CREATED:20230210T130254Z
LAST-MODIFIED:20230210T130852Z
UID:3336-1677063600-1677067200@iwg.stratacomm.agency
SUMMARY:Joint DOE/EDA Webinar Series: Investing in Energy Communities – Focus on Appalachia
DESCRIPTION:USDA’s Rural Utilities Service staff will provide a detailed overview on the requirements for submitting a Letter of Interest (LOI) for New ERA. In addition to LOI requirements\, instructions for completing the Greenhouse Gas reduction worksheet will be included. Attendees will have the opportunity to ask questions about the funding requirements and process. 								\n				\n					\n				\n		\n					\n				\n				\n									\n					\n						\n									REGISTER
URL:https://iwg.stratacomm.agency/event/joint-doe-eda-webinar-series-investing-in-energy-communities-focus-on-appalachia/
END:VEVENT
BEGIN:VEVENT
DTSTART;TZID=America/New_York:20230221T160000
DTEND;TZID=America/New_York:20230221T170000
DTSTAMP:20260422T080948
CREATED:20230210T125954Z
LAST-MODIFIED:20230210T130805Z
UID:3334-1676995200-1676998800@iwg.stratacomm.agency
SUMMARY:Joint DOE/EDA Webinar Series: Investing in Energy Communities – Focus on the Intermountain West Region
DESCRIPTION:USDA’s Rural Utilities Service staff will provide a detailed overview on the requirements for submitting a Letter of Interest (LOI) for New ERA. In addition to LOI requirements\, instructions for completing the Greenhouse Gas reduction worksheet will be included. Attendees will have the opportunity to ask questions about the funding requirements and process. 								\n				\n					\n				\n		\n					\n				\n				\n									\n					\n						\n									REGISTER
URL:https://iwg.stratacomm.agency/event/joint-doe-eda-webinar-series-investing-in-energy-communities-focus-on-the-intermountain-west-region/
END:VEVENT
BEGIN:VEVENT
DTSTART;TZID=America/New_York:20230221T140000
DTEND;TZID=America/New_York:20230221T153000
DTSTAMP:20260422T080948
CREATED:20230214T135823Z
LAST-MODIFIED:20230214T140054Z
UID:3345-1676988000-1676993400@iwg.stratacomm.agency
SUMMARY:POWER 2023 Pre-Application Workshop (ARC)
DESCRIPTION:USDA’s Rural Utilities Service staff will provide a detailed overview on the requirements for submitting a Letter of Interest (LOI) for New ERA. In addition to LOI requirements\, instructions for completing the Greenhouse Gas reduction worksheet will be included. Attendees will have the opportunity to ask questions about the funding requirements and process. 								\n				\n					\n				\n		\n					\n				\n				\n									\n					\n						\n									REGISTER
URL:https://iwg.stratacomm.agency/event/power-2023-pre-application-workshop-arc/
END:VEVENT
BEGIN:VEVENT
DTSTART;TZID=America/New_York:20230221T110000
DTEND;TZID=America/New_York:20230221T120000
DTSTAMP:20260422T080948
CREATED:20230210T125143Z
LAST-MODIFIED:20230210T130714Z
UID:3333-1676977200-1676980800@iwg.stratacomm.agency
SUMMARY:Joint DOE/EDA Webinar Series: Investing in Energy Communities - Focus on Illinois Basin Region
DESCRIPTION:USDA’s Rural Utilities Service staff will provide a detailed overview on the requirements for submitting a Letter of Interest (LOI) for New ERA. In addition to LOI requirements\, instructions for completing the Greenhouse Gas reduction worksheet will be included. Attendees will have the opportunity to ask questions about the funding requirements and process. 								\n				\n					\n				\n		\n					\n				\n				\n									\n					\n						\n									REGISTER
URL:https://iwg.stratacomm.agency/event/joint-doe-eda-webinar-series-investing-in-energy-communities-focus-on-illinois-basin-region/
END:VEVENT
BEGIN:VEVENT
DTSTART;TZID=America/New_York:20230124T130000
DTEND;TZID=America/New_York:20230124T140000
DTSTAMP:20260422T080948
CREATED:20221206T202358Z
LAST-MODIFIED:20230117T165330Z
UID:2982-1674565200-1674568800@iwg.stratacomm.agency
SUMMARY:Technical Assistance for Energy Communities Webinar Series – Webinar #3
DESCRIPTION:USDA’s Rural Utilities Service staff will provide a detailed overview on the requirements for submitting a Letter of Interest (LOI) for New ERA. In addition to LOI requirements\, instructions for completing the Greenhouse Gas reduction worksheet will be included. Attendees will have the opportunity to ask questions about the funding requirements and process. 								\n				\n					\n				\n		\n					\n				\n				\n									\n					\n						\n									REGISTER
URL:https://iwg.stratacomm.agency/event/technical-assistance-for-energy-communities-webinar-series-webinar-3/
END:VEVENT
BEGIN:VEVENT
DTSTART;TZID=America/New_York:20230117T130000
DTEND;TZID=America/New_York:20230117T140000
DTSTAMP:20260422T080948
CREATED:20221206T201616Z
LAST-MODIFIED:20230117T154705Z
UID:2981-1673960400-1673964000@iwg.stratacomm.agency
SUMMARY:Technical Assistance for Energy Communities Webinar Series – Webinar #2
DESCRIPTION:USDA’s Rural Utilities Service staff will provide a detailed overview on the requirements for submitting a Letter of Interest (LOI) for New ERA. In addition to LOI requirements\, instructions for completing the Greenhouse Gas reduction worksheet will be included. Attendees will have the opportunity to ask questions about the funding requirements and process. 								\n				\n					\n				\n		\n					\n				\n				\n									\n					\n						\n									REGISTER
URL:https://iwg.stratacomm.agency/event/technical-assistance-for-energy-communities-webinar-series-webinar-2/
END:VEVENT
BEGIN:VEVENT
DTSTART;TZID=America/New_York:20230110T130000
DTEND;TZID=America/New_York:20230110T140000
DTSTAMP:20260422T080948
CREATED:20221206T195527Z
LAST-MODIFIED:20230106T195200Z
UID:2980-1673355600-1673359200@iwg.stratacomm.agency
SUMMARY:Technical Assistance for Energy Communities Webinar Series – Webinar #1
DESCRIPTION:USDA’s Rural Utilities Service staff will provide a detailed overview on the requirements for submitting a Letter of Interest (LOI) for New ERA. In addition to LOI requirements\, instructions for completing the Greenhouse Gas reduction worksheet will be included. Attendees will have the opportunity to ask questions about the funding requirements and process. 								\n				\n					\n				\n		\n					\n				\n				\n									\n					\n						\n									REGISTER
URL:https://iwg.stratacomm.agency/event/technical-assistance-for-energy-communities-webinar-series-webinar-1/
END:VEVENT
BEGIN:VEVENT
DTSTART;TZID=America/New_York:20221130T080000
DTEND;TZID=America/New_York:20221130T080000
DTSTAMP:20260422T080948
CREATED:20221115T184342Z
LAST-MODIFIED:20221115T184342Z
UID:2931-1669795200-1669795200@iwg.stratacomm.agency
SUMMARY:Federal Resources for Revitalizing Rural Energy Communities in the Ohio Valley
DESCRIPTION:USDA’s Rural Utilities Service staff will provide a detailed overview on the requirements for submitting a Letter of Interest (LOI) for New ERA. In addition to LOI requirements\, instructions for completing the Greenhouse Gas reduction worksheet will be included. Attendees will have the opportunity to ask questions about the funding requirements and process. 								\n				\n					\n				\n		\n					\n				\n				\n									\n					\n						\n									REGISTER
URL:https://iwg.stratacomm.agency/event/federal-resources-for-revitalizing-rural-energy-communities-in-the-ohio-valley/
LOCATION:WV Northern Community College\, 1704 Market Street\, Wheeling\, 26003\, United States
END:VEVENT
BEGIN:VEVENT
DTSTART;TZID=America/New_York:20221129T140000
DTEND;TZID=America/New_York:20221129T150000
DTSTAMP:20260422T080948
CREATED:20221108T161049Z
LAST-MODIFIED:20221108T162821Z
UID:2928-1669730400-1669734000@iwg.stratacomm.agency
SUMMARY:BRECC Challenge and Coalition Applications Info Session
DESCRIPTION:USDA’s Rural Utilities Service staff will provide a detailed overview on the requirements for submitting a Letter of Interest (LOI) for New ERA. In addition to LOI requirements\, instructions for completing the Greenhouse Gas reduction worksheet will be included. Attendees will have the opportunity to ask questions about the funding requirements and process. 								\n				\n					\n				\n		\n					\n				\n				\n									\n					\n						\n									REGISTER
URL:https://iwg.stratacomm.agency/event/brecc-challenge-and-coalition-applications-info-session/
END:VEVENT
END:VCALENDAR